BEGIN:VCALENDAR
VERSION:2.0
PRODID:-//wp-events-plugin.com//7.2.3.1//EN
TZID:Australia/Sydney
X-WR-TIMEZONE:Australia/Sydney
BEGIN:VEVENT
UID:2880@unswoc.org
DTSTART;VALUE=DATE:20181103
DTEND;VALUE=DATE:20181104
DTSTAMP:20210305T034121Z
URL:https://unswoc.org/wordpress/events/come-to-the-darkside/
SUMMARY:Come to the Darkside
DESCRIPTION:\n\nThis Saturday\, I am looking to go and climb dark side at P
 ierces Pass while introducing a lucky club member to multi-pitching!\n\nTh
 e climb: Darkside is a grade 14 trad multi-pitch route located at Pierces 
 Pass in the Blue Mountains.\n\nThe climber: To come along\, at a minimum y
 ou must be able to lead climb\, lead belay and abseil. Ideally looking for
  someone with a sense of adventure and who's looking to be convert to the 
 darkside of trad climbing \;)\n\nIf this sounds like you then make sure to
  send me a fb message with the following details:\n\n1) Your climbing expe
 rience\n\n2) Why you want to come along\n\nKit list:\n\n 	Climbing shoes\n
  	Climbing helmet\n 	Harness\n 	Chalk bag\n 	Belay device and locking cara
 biner\n 	2 x Prusiks and locking carabiners\n 	Food and water for the day.
  At least 1.5L of water\n 	Walking shoes\n 	A sense of adventure!\n
CATEGORIES:Outdoor Climbing
END:VEVENT
END:VCALENDAR