BEGIN:VCALENDAR
VERSION:2.0
PRODID:-//wp-events-plugin.com//7.2.3.1//EN
TZID:Australia/Sydney
X-WR-TIMEZONE:Australia/Sydney
BEGIN:VEVENT
UID:1513@unswoc.org
DTSTART;VALUE=DATE:20151227
DTEND;VALUE=DATE:20151231
DTSTAMP:20151222T224611Z
URL:https://unswoc.org/wordpress/events/combined-sea-kayaking-jervis-bay/
SUMMARY:Combined Sea Kayaking - Jervis Bay
DESCRIPTION:Hey there! So UNSWOC and SUCanoe are having a combined multi-da
 y sea kayaking adventure at Jervis bay. Some experience paddling is prefer
 red as we are hoping to cover over 50km in the 3 days. We will be paddling
  during the day and camping at night so make sure that you are prepared. Y
 ou don't need to know how to roll to attend this event\, so it is perfectl
 y fine if you haven't attended a pool session. People who own cars with ro
 of racks have preference\, as we are desperately looking at ways to get th
 e boats there\, so if this is you please contact me! Cars can be rented an
 d the cost split between the occupants. We will leave in the evening of th
 e 27th and camp near the start of the paddle to get started early on the 2
 8th. We will return to Sydney late on the 30th.\n\nWhat you will need:\n\n
 	swimmers\n	WATER! and things to carry this life source in! (minimum 2L/da
 y)[s2If current_user_can(access_s2member_level1)][/s2If]\n	 towel\n	dry b
 ags\n	thermals\n	food\n	insect repellent\n	sunscreen and hat\n	toilet pape
 r\n	Life jacket\n	shoes that can get wet\n	tent\n	sleeping bag\n	sleeping 
 mat\n	raincoat\n	skirt\n	headtorch\n\n*note: Lifejacket and skirt can be p
 icked up from the gear cupboard\, however contact me if this is impossible
  for you and we can organize something. You will NOT be allowed to paddle 
 without a lifejacket!
CATEGORIES:Flat Water Kayaking
END:VEVENT
END:VCALENDAR