BEGIN:VCALENDAR
VERSION:2.0
PRODID:-//wp-events-plugin.com//7.2.3.1//EN
TZID:Australia/Sydney
X-WR-TIMEZONE:Australia/Sydney
BEGIN:VEVENT
UID:2260@unswoc.org
DTSTART:20180803T210000Z
DTEND:20180805T110000Z
DTSTAMP:20180801T011709Z
URL:https://unswoc.org/wordpress/events/colong-caves-exploration/
SUMMARY:Colong caves exploration
DESCRIPTION:Advanced overnight trip to Colong Caves in rural NSW\n\nFirst t
 ime UNSWOC is visiting woo\n\n\n\n&nbsp\;
ATTACH;FMTTYPE=image/jpeg:https://unswoc.org/wordpress/wp-content/uploads/
 2018/06/Colong-19.jpg
CATEGORIES:Caving
END:VEVENT
END:VCALENDAR