BEGIN:VCALENDAR
VERSION:2.0
PRODID:-//wp-events-plugin.com//7.2.3.1//EN
TZID:Australia/Sydney
X-WR-TIMEZONE:Australia/Sydney
BEGIN:VEVENT
UID:2191@unswoc.org
DTSTART:20171027T190000Z
DTEND:20171028T090000Z
DTSTAMP:20171017T092947Z
URL:https://unswoc.org/wordpress/events/coke-ovens-beginner-crack-climbing
 -saturday/
SUMMARY:Coke Ovens Beginner (Crack) Climbing - Saturday
DESCRIPTION:Hi guys\,\n\nLiam\, Abi\, Nick and I will be running a beginner
  climbing trip to coke ovens on the Saturday. It's walking distance from t
 he campsite (with one river crossing). There is a range of different climb
 ing there and a great opportunity to learn how to crack climb!\n\nYou will
  need to bring:\n\n	Sunscreen (will be in the sun for most of the day)\n	L
 unch\n	Water (at least 1.5L)\n	Harness *\n	Helmet *\n	Locking carabiner *\
 n	ATC *\n	Climbing shoes *\n	Chalk bag (optional)\n	Snacks for trip leader
 s!\n	Some climbing/sports tape to protect your hands (optional)\n\n*Club w
 ill provide this gear for you (Free) on saturday morning. Please bring you
 r own if you have it though!\n\nFeel free to give us a message if you have
  any questions. 20 spots available for all levels of climbing.\n\nEamonn
ATTACH;FMTTYPE=image/jpeg:https://unswoc.org/wordpress/wp-content/uploads/
 2017/10/handStack.jpg
CATEGORIES:Outdoor Climbing
END:VEVENT
END:VCALENDAR