BEGIN:VCALENDAR
VERSION:2.0
PRODID:-//wp-events-plugin.com//7.2.3.1//EN
TZID:Australia/Sydney
X-WR-TIMEZONE:Australia/Sydney
BEGIN:VEVENT
UID:2574@unswoc.org
DTSTART;TZID=Australia/Sydney:20191102T080000
DTEND;TZID=Australia/Sydney:20191102T180000
DTSTAMP:20191030T112504Z
URL:https://unswoc.org/wordpress/events/coastal-walk-royal-national-park/
SUMMARY:Coastal Walk - Royal National Park
DESCRIPTION:\n\nSATURDAY HIKE - Alie and I will be running a hiking trip th
 is Saturday. The plan is to do the Coastal Walk from Bundeena to Otford. 2
 6km of scenic coast line just south of Sydney. Although a long day\, it is
  an absolutely beautiful beginner hike. \n\n\n\nThis walk is accessible b
 y public transport. It is possible to catch the train to the start (Cronul
 la station) and catch the 8:30am ferry to Bundeena (9am start). We will me
 et on the 7:22am train from Central Station on the second last carriage\, 
 and once at Cronulla walk to the ferry together. At the end\, we will catc
 h the train back to the city from Otford\, aiming for the 5:15pm train\, w
 hich will get us back to the city around 6:15pm.\n\n\n\nWhat to bring:\n- 
 backpack\n- hat\n- comfortable shoes to walk in\n- sunscreen\n- sunnies\n-
  2L of water\n- snacks\n- lunch\n- swimmers\n- towel\n- first aid kit (if 
 you have one)\n- something to share\n- rain jacket\n\nIt's going to be a g
 reat day! Get excited for many spectacular cliff views\, waterfalls\, all 
 sorts of finches\, funky rock formations\, maybe some whales\, and a guara
 nteed spectacle of muggles trying to find and navigate around the figure 8
  pools :)\n\nFor some more info\, check out the links below:\n\n\nhttps://
 www.nationalparks.nsw.gov.au/things-to-do/walking-tracks/the-coast-track\n
 \n\nhttps://www.sydneycoastwalks.com.au/royal-national-park-coastal-walk/\
 n\n\nhttp://www.wildwalks.com/bushwalking-and-hiking-in-nsw/royal-national
 -park/coast-track-otford-to-bundeena.html\n\n\n&nbsp\;
ATTACH;FMTTYPE=image/jpeg:https://unswoc.org/wordpress/wp-content/uploads/
 2019/10/coastal-track-01.jpg
CATEGORIES:Hectic Hiking
END:VEVENT
BEGIN:VTIMEZONE
TZID:Australia/Sydney
X-LIC-LOCATION:Australia/Sydney
BEGIN:DAYLIGHT
DTSTART:20191006T030000
TZOFFSETFROM:+1000
TZOFFSETTO:+1100
TZNAME:AEDT
END:DAYLIGHT
END:VTIMEZONE
END:VCALENDAR