BEGIN:VCALENDAR
VERSION:2.0
PRODID:-//wp-events-plugin.com//7.2.3.1//EN
TZID:Australia/Sydney
X-WR-TIMEZONE:Australia/Sydney
BEGIN:VEVENT
UID:2991@unswoc.org
DTSTART;TZID=Australia/Sydney:20220430T093000
DTEND;TZID=Australia/Sydney:20220430T113000
DTSTAMP:20220426T072722Z
URL:https://unswoc.org/wordpress/events/coaching-sessions-with-grit-climbi
 ng/
SUMMARY:Coaching Sessions with Grit Climbing
DESCRIPTION:***UPDATE***\n\nTahlia has expressed some time preferences so i
 n the comments please let me know which of the following times (if any) wo
 rk for you:\n\n 	Monday mornings\n 	Monday early arvo (2.30pm)\n 	Wednesda
 y\n 	Thursday morning\n 	Friday morning\n 	Saturday morning\n\nPlease also
  indicate how soon you can start.\n\nIf none of these times work for a maj
 ority we'll see what we can do :)\n\n******************\nI've been speakin
 g to the folks at Grit climbing and we've come up with an exciting opportu
 nity exclusive for club members! We're offering an 8 week climbing course 
 to help you improve and learn to train self sufficiently.\nGrit climbing's
  course will not only teach you to climb better\, but to teach you how to 
 improve independently. They aim to impart all the knowledge needed to iden
 tify and work on personal weaknesses\, how to effectively train\, how to p
 lan training programmes over a range of timescales and\, most importantly\
 , how to coach eachother and excel at the sport together.\nClimbing is a s
 port that is 60% skill and 40% strength and so training plans that focus o
 n purely the strength aspect of climbing miss out on key components that h
 ave a major impact on climbing. Grit's philosophy is that training should 
 be more focused on techniques before anything else (for example\, enduranc
 e\, strength and power training). This is why the first part of the course
  will be focused on building climbing basics\, correcting any bad habits y
 ou've picked up and creating a solid foundation for improvement. The secon
 d part of the course will then be building the skills and teamwork to beco
 me independent and continue improve once the course is over.\nThe price fo
 r the full course is $160\, not including gym entry and gear hire. This am
 ount is subsidised by the club so don't miss out! In addition to this\, if
  you lead a trip or have lead a trip in the past 12 months the price will 
 be further subsidised to $140. The location will most probably be at 9D wa
 terloo\, however it could be possible to move to the Ledge if the cost pro
 ves prohibitive. The timings are not yet set and will be finalised accordi
 ng to the availability of the people who sign up.\nThere are only 15 spots
  available and it will be first come first serve so make sure you sign up 
 quick! Signups will open TOMORROW (Sunday 27th March) at 5PM here.\nPlease
  note that this is not for absolute beginners\, you should have 3-6 months
  of climbing experience. If you still want to please sign up\, but prefere
 nce will be given to those with some experience. Please let me know your e
 xperience level in the comments.\n\n&nbsp\;\nThe Coaches:\n@Tahliaclimbs w
 ill be the main coach for this course. Tahlia is an awesome female climber
  who has over 5 years coaching experience under her belt and was the ACT J
 unior Lead Champion in 2020 and 2021\, and the NSW/ACT Open B Bouldering C
 hampion in 2022. Whether it be fine-tuning micro-movements or finding the 
 confidence and power within to tackle the toughest of training regimes\, T
 ahlia is passionate about making sure you get that send\, no matter your a
 ge or ability.\n@chew.grit.climbing will be coaching alongside Tahlia for 
 some sessions. With over 14 years of working experience in an indoor climb
 ing gym both in Singapore and Sydney\, he has trained high level youth Nat
 ional climbers for these countries for IFSC Youth World Championships. Hav
 ing a strong passion to teach and coach sport climbing\, he together with 
 Deryl Ng\, co-founded\, Grit Climbing. He specializes as a technique coach
 . 
CATEGORIES:Bouldering,Climbing,Indoor Climbing
END:VEVENT
BEGIN:VTIMEZONE
TZID:Australia/Sydney
X-LIC-LOCATION:Australia/Sydney
BEGIN:STANDARD
DTSTART:20220403T020000
TZOFFSETFROM:+1100
TZOFFSETTO:+1000
TZNAME:AEST
END:STANDARD
END:VTIMEZONE
END:VCALENDAR