BEGIN:VCALENDAR
VERSION:2.0
PRODID:-//wp-events-plugin.com//7.2.3.1//EN
TZID:Australia/Sydney
X-WR-TIMEZONE:Australia/Sydney
BEGIN:VEVENT
UID:1517@unswoc.org
DTSTART;VALUE=DATE:20160213
DTEND;VALUE=DATE:20160214
DTSTAMP:20160212T041137Z
URL:https://unswoc.org/wordpress/events/climbing-trip-soft-parade/
SUMMARY:Climbing Trip - Soft Parade
DESCRIPTION:Running a trip to Soft Parade on Saturday to scout out for Bore
 e Log. This trip is only open to those who are completely self sufficient 
 as it will be mainly a scouting trip.
CATEGORIES:Outdoor Climbing
END:VEVENT
END:VCALENDAR