BEGIN:VCALENDAR
VERSION:2.0
PRODID:-//wp-events-plugin.com//7.2.3.1//EN
TZID:Australia/Sydney
X-WR-TIMEZONE:Australia/Sydney
BEGIN:VEVENT
UID:2759@unswoc.org
DTSTART;TZID=Australia/Sydney;VALUE=DATE:20201107
DTEND;TZID=Australia/Sydney;VALUE=DATE:20201108
DTSTAMP:20201103T122537Z
URL:https://unswoc.org/wordpress/events/climbing-trip-saturday-7th-nov/
SUMMARY:Climbing trip - Saturday 7th Nov
DESCRIPTION:Jeff\, Jenny and I (Ash) will be running a climbing trip this S
 aturday the 7th of November. Crag TBD\, but will be in the Blue Mountains.
  Sign up if you're keen :)\n\nThings to bring:\n\n 	Harness\n 	Helmet\n 	A
 TC\n 	Safety\n 	Lunch\n 	At least 2l Water\n 	Hat\, sunscreen ect\n 	warm 
 jumper\n 	any trad gear you already own\n\nThe plan will be to meet at 9 a
 m at the carpark of the crag we decide upon.\n\nlet me know in the comment
 s what your experience\, feel free to message me (Ash Brennan)\n\nGET KEEN
 !!
ATTACH;FMTTYPE=image/jpeg:https://unswoc.org/wordpress/wp-content/uploads/
 2020/07/Jenny-1.jpg
CATEGORIES:Climbing,Outdoor Climbing,Training
END:VEVENT
BEGIN:VTIMEZONE
TZID:Australia/Sydney
X-LIC-LOCATION:Australia/Sydney
BEGIN:DAYLIGHT
DTSTART:20201004T030000
TZOFFSETFROM:+1000
TZOFFSETTO:+1100
TZNAME:AEDT
END:DAYLIGHT
END:VTIMEZONE
END:VCALENDAR