BEGIN:VCALENDAR
VERSION:2.0
PRODID:-//wp-events-plugin.com//7.2.3.1//EN
TZID:Australia/Sydney
X-WR-TIMEZONE:Australia/Sydney
BEGIN:VEVENT
UID:467@unswoc.org
DTSTART:20140404T210000Z
DTEND:20140405T060000Z
DTSTAMP:20140403T153334Z
URL:https://unswoc.org/wordpress/events/climbing-trip-piddo-or-mt-york/
SUMMARY:Beginners Climbing - Mt. York (&amp\; Luke's Bday)
DESCRIPTION:HEAR YE\, HEAR YE\, climbing in the blueys this saturday!\n\nKa
 tie and I will be running climbing for all of ye keen beans at Mt York thi
 s weekend\, the easiest grade is around 14 so you'll need to have climbed 
 say at least a couple of times at the wall\, there's also loads of awesome
  harder stuff for anyone who wants to come help out or just climb themselv
 es\n\nMeeting EIGHT 8 AM on SATURDAY at the bottom of the physics lawn\, c
 ome in through gate 14 off Barker st.\n\nAnyone who needs gear meet at the
  gear cupboard at TEN 10 AM on THURSDAY or FIVE 5PM on FRIDAY. You'll need
  PETROL MONEY for your lovely driver\, harness\, helmet\, shoes\, lunch\, 
 water\, sunscreen (&amp\; a backpack Luke \;) etc.\n\nAlso Saturday is Luk
 e's Birthday! So beers at probably the blackheath pub after.\n\nCheers\,\n
 \nBrendan
CATEGORIES:Outdoor Climbing
LOCATION:\, \, 
X-APPLE-STRUCTURED-LOCATION;VALUE=URI;X-ADDRESS=\, ;X-APPLE-RADIUS=100;X-TI
 TLE=:geo:0,0
END:VEVENT
END:VCALENDAR