BEGIN:VCALENDAR
VERSION:2.0
PRODID:-//wp-events-plugin.com//7.2.3.1//EN
TZID:Australia/Sydney
X-WR-TIMEZONE:Australia/Sydney
BEGIN:VEVENT
UID:2320@unswoc.org
DTSTART;VALUE=DATE:20181027
DTEND;VALUE=DATE:20181028
DTSTAMP:20181023T123900Z
URL:https://unswoc.org/wordpress/events/climbing-trip-medlow-bath/
SUMMARY:*FULL* Climbing Trip to Medlow Bath
DESCRIPTION:Hello to all the climbers out there!\n\nSteven\, Sophie and I w
 ill be leading a climbing trip to Medlow Bath in the Blue Mountains this S
 aturday since Boree Log has been postponed. This crag is accessible by tra
 in from Medlow Bath station.\n\nNo climbing experience is required as we'l
 l be setting up top ropes. The climbs start from grade 14.\n\nPlease send 
 me a message on facebook telling me your climbing experience\, whether you
  will be driving and what gear you need. We will obtain any gear that you 
 require but you must tell me what you need asap.\n\n 	Gear: harness\, helm
 et\, climbing shoes (you must have your own)\, ATC + carabiner (if you hav
 e your own make sure you bring it).\n 	What to bring: sunscreen\, 2 l wate
 r\, food for the day\, sporty-warm clothes\, a day backpack to fit all you
 r stuff inside\, camera\, etc.\n 	Meeting point: 9:30am at Belgravia St\,
  Medlow Bath or at a later time at the crag.\n\nWe will be camping the nig
 ht before\, so feel free to come join us. Bring your own tent\, sleeping b
 ag and mat if you do plan to camp.\n\nSee you there!\n\nTad Karapetian
CATEGORIES:Outdoor Climbing
END:VEVENT
END:VCALENDAR