BEGIN:VCALENDAR
VERSION:2.0
PRODID:-//wp-events-plugin.com//7.2.3.1//EN
TZID:Australia/Sydney
X-WR-TIMEZONE:Australia/Sydney
BEGIN:VEVENT
UID:308@unswoc.org
DTSTART;VALUE=DATE:20131012
DTEND;VALUE=DATE:20131013
DTSTAMP:20130927T131553Z
URL:https://unswoc.org/wordpress/events/climbing-trip-boree-log/
SUMMARY:Boree Log - Climbing Trip
DESCRIPTION:Have you ever climbed outdoors before?\n\nNo\, well then this i
 s the trip for you. We will be setting up a number of top ropes over some 
 easier grades. This means that even if you have never climbed before in yo
 ur life you should be able to jump on some stuff.\n\nExperienced climber?
  \n\nWe would love your help setting up and teaching. Believe it or not\,
  Dam Cliffs also offers a selection of harder routes for those wanting to 
 jump on some steep sport climbing.\n\nIf you have your own harness and/or 
 shoes please bring them as that way you won't have to be sharing them roun
 d.\n\nIf you don't don't worry we will have a number of harnesses and shoe
 s with us at the crag.\n\nAt the end of the day there is also the possibil
 ity of a deep water solo which involves getting wet so maybe bring a towel
 .\n\n&nbsp\;\n\nThis trip can take a maximum of 40 beginners so get in ear
 ly.
CATEGORIES:Boree Log
LOCATION:\, \, 
X-APPLE-STRUCTURED-LOCATION;VALUE=URI;X-ADDRESS=\, ;X-APPLE-RADIUS=100;X-TI
 TLE=:geo:0,0
END:VEVENT
END:VCALENDAR