BEGIN:VCALENDAR
VERSION:2.0
PRODID:-//wp-events-plugin.com//7.2.3.1//EN
TZID:Australia/Sydney
X-WR-TIMEZONE:Australia/Sydney
BEGIN:VEVENT
UID:2351@unswoc.org
DTSTART;VALUE=DATE:20190107
DTEND;VALUE=DATE:20190108
DTSTAMP:20190106T073609Z
URL:https://unswoc.org/wordpress/events/climbing-trip-alfords-point/
SUMMARY:Climbing Trip - Alfords Point
DESCRIPTION:G’day climbing bums\,\n\nDion and I will be leading a climbin
 g trip to Alfords Point in Southern Sydney on Monday afternoon.\n\nNo outd
 oor climbing experience is required as we can set up top ropes. There are 
 a good range of grades at this crag. https://www.thecrag.com/climbing/aus
 tralia/sutherland/area/13082275\n\nPlease include in the comments: your cl
 imbing experience\, whether you are able to drive and what gear you alread
 y own. I will collect club gear if you don't have your own (except you mus
 t have your own climbing shoes)\n\n 	Gear: harness\, helmet\, climbing sh
 oes\, ATC + carabiner (if you have your own make sure you bring it!!!).\n 
 	What to bring: sunscreen\, 2L of water\, food for the day\, sporty-warm 
 clothes\, a day backpack to fit all your stuff inside\, camera\, smiles et
 c.\n 	Meeting point: 12:30pm at Maxwell Close\, Illawong.\n\nPlease infor
 m me of any medical issues that I should be aware of\, prior to the day.\n
 \nSee you there!\n\nTad Karapetian
CATEGORIES:Outdoor Climbing
END:VEVENT
END:VCALENDAR