BEGIN:VCALENDAR
VERSION:2.0
PRODID:-//wp-events-plugin.com//7.2.3.1//EN
TZID:Australia/Sydney
X-WR-TIMEZONE:Australia/Sydney
BEGIN:VEVENT
UID:2642@unswoc.org
DTSTART;TZID=Australia/Sydney;VALUE=DATE:20200328
DTEND;TZID=Australia/Sydney;VALUE=DATE:20200329
DTSTAMP:20200323T031947Z
URL:https://unswoc.org/wordpress/events/climbing-trip-2/
SUMMARY:Climbing trip
DESCRIPTION:Hi! so\, Ava and I will be running a small climbing trip to the
  blue mountains on Saturday. We will find a smaller secluded crag with max
 imum social distancing. I mean you can literally put meters of air between
  you and your partner.\n\nEquipment:\n\n 	Helmet*\n 	Harness*\n 	ATC and B
 iner*\n 	Climbing shoe* (or old trainers)\n 	Lunch\n 	Water\n 	Sunscreen/h
 at\n 	Jacket (it can get cold up here)\n\n* things you can borrow from the
  gear cupboard.\n\nI know these are very trying times and this trip comes 
 with some caveats:\n\n 	This trip could be canceled at short notice if cir
 cumstances change or the weather turns bad.\n 	To come on this trip you ha
 ve to have no symptoms\, have not traveled in the last two weeks and have 
 not come in contact with potential covid cases.\n 	avoid public transport\
 , stopping for food or social interaction on your way to and from the trip
 .\n\nPlease write if you can lead belay\, lead climb or would like to lear
 n either of these things.  Now for the more exciting bit!\n\nCome climbin
 g!!!\n\n&nbsp\;\n\n&nbsp\;
ATTACH;FMTTYPE=image/jpeg:https://unswoc.org/wordpress/wp-content/uploads/
 2020/02/jfgc.png
END:VEVENT
BEGIN:VTIMEZONE
TZID:Australia/Sydney
X-LIC-LOCATION:Australia/Sydney
BEGIN:DAYLIGHT
DTSTART:20191006T030000
TZOFFSETFROM:+1000
TZOFFSETTO:+1100
TZNAME:AEDT
END:DAYLIGHT
END:VTIMEZONE
END:VCALENDAR