BEGIN:VCALENDAR
VERSION:2.0
PRODID:-//wp-events-plugin.com//7.2.3.1//EN
TZID:Australia/Sydney
X-WR-TIMEZONE:Australia/Sydney
BEGIN:VEVENT
UID:2920@unswoc.org
DTSTART;TZID=Australia/Sydney;VALUE=DATE:20210627
DTEND;TZID=Australia/Sydney;VALUE=DATE:20210628
DTSTAMP:20210623T111905Z
URL:https://unswoc.org/wordpress/events/climbing-this-sunday-bangor-west/
SUMMARY:POSTPONED - Beginner Climbing this Sunday - Bangor West
DESCRIPTION:This trip is postponed until further notice due to COVID safety
  concerns and restrictions. 23/06/2021\n&nbsp\;\n\nHi UNSWOC members!\n\n&
 nbsp\;\n\nCindy Li and I will be running a climbing trip to Bangor West th
 is Sunday (27/06/2021). If you are keen to get into outdoor climbing or wa
 nt to practise some sport climbing please message me on Facebook about:\n\
 n 	Your climbing experience\n 	Anything you want to learn in particular\n 
 	If you have a car\n 	Which area you live in (to sort out transport)\n\n&n
 bsp\;\n\nGear Required:\n\n 	Harness*\n 	Climbing Shoes*\n 	Helmet*\n 	Bel
 ay device and locking carabiner*\n 	Safety sling and locking carabiner * 
 (if you want to learn to clean)\n 	Chalk Bag (optional but recommended)\n
 \n* – Can be borrowed from the gear shed at UNSW\, hire is free for club
  trips but remember to bring cash for a deposit! Check Facebook posts!\n\n
 Other:\n\n 	At least 2L of water\n 	Food and snacks for the day\n 	Sunscre
 en\n 	Personal medicines (epipen\, antihistamines\, etc.)\n 	Enclosed com
 fortable shoes for the approach + a warm jacket\n 	A head torch (just in 
 case)\n 	Some petrol money for your driver.\n\n&nbsp\;\n\nGet exciiiiiiiii
 iiiiiited!\n\nBrendon Yiu\n\n&nbsp\;\n\n&nbsp\;
CATEGORIES:Outdoor Climbing
END:VEVENT
BEGIN:VTIMEZONE
TZID:Australia/Sydney
X-LIC-LOCATION:Australia/Sydney
BEGIN:STANDARD
DTSTART:20210404T020000
TZOFFSETFROM:+1100
TZOFFSETTO:+1000
TZNAME:AEST
END:STANDARD
END:VTIMEZONE
END:VCALENDAR