BEGIN:VCALENDAR
VERSION:2.0
PRODID:-//wp-events-plugin.com//7.2.3.1//EN
TZID:Australia/Sydney
X-WR-TIMEZONE:Australia/Sydney
BEGIN:VEVENT
UID:2646@unswoc.org
DTSTART:20200625T060000Z
DTEND:20200625T104500Z
DTSTAMP:20200625T025152Z
URL:https://unswoc.org/wordpress/events/climbing-the-ledge-3-2020-06-25/
SUMMARY:Booking Thursday @THE LEDGE + AGM
DESCRIPTION:Every week we go climbing at Sydney University for $5 (instead 
 of $12 for non-members). Everyone is welcome. To fit COVID regulations\, t
 here is a maximum number of club members allowed at the gym at the time so
  bookings are required.\n\nThe Ledge is the best place to sign-up to the c
 lub\, learn\, and plan trips for the weekend. Afterwards\, we all go to th
 e Forest Lodge Hotel for dinner where we get Pizzas discounted to $10 (Say
  you’re from UNSW) and great beer. The kitchen closes at 9:00 pm so make
  sure you get there on time!\n\n
ATTACH;FMTTYPE=image/jpeg:https://unswoc.org/wordpress/wp-content/uploads/
 2015/08/CIMG1276.jpg
CATEGORIES:Indoor Climbing
END:VEVENT
END:VCALENDAR