BEGIN:VCALENDAR
VERSION:2.0
PRODID:-//wp-events-plugin.com//7.2.3.1//EN
TZID:Australia/Sydney
X-WR-TIMEZONE:Australia/Sydney
BEGIN:VEVENT
UID:220@unswoc.org
DTSTART:20150806T063000Z
DTEND:20150806T103000Z
DTSTAMP:20150812T025342Z
URL:https://unswoc.org/wordpress/events/climbing-the-ledge-2015-08-06/
SUMMARY:CLIMBING @ THE LEDGE
DESCRIPTION:&nbsp\;\n\n&nbsp\;\n\n&nbsp\;\n\n&nbsp\;\n\n\n\n&nbsp\;\n\nEver
 y week we go climbing at Sydney University for $5 (instead of $12 for non-
 members). Everyone is welcome and it is the best place to learn and plan t
 rips for the weekend. Afterwards we all go to the Forest Lodge Hotel for d
 inner where we get fall Pizzas discounted to $10 (Say you're from UNSW) an
 d great beer. The kitchen closes at 9.30 so make sure you get there on tim
 e!\n\n&nbsp\;
ATTACH;FMTTYPE=image/jpeg:https://unswoc.org/wordpress/wp-content/uploads/
 2013/07/IMG_4686.jpg
CATEGORIES:Outdoor Climbing
LOCATION:\, \, 
X-APPLE-STRUCTURED-LOCATION;VALUE=URI;X-ADDRESS=\, ;X-APPLE-RADIUS=100;X-TI
 TLE=:geo:0,0
END:VEVENT
END:VCALENDAR