BEGIN:VCALENDAR
VERSION:2.0
PRODID:-//wp-events-plugin.com//7.2.3.1//EN
TZID:Australia/Sydney
X-WR-TIMEZONE:Australia/Sydney
BEGIN:VEVENT
UID:147@unswoc.org
DTSTART:20140313T063000Z
DTEND:20140313T103000Z
DTSTAMP:20130730T040958Z
URL:https://unswoc.org/wordpress/events/climbing-the-ledge-2014-03-13/
SUMMARY:CLIMBING @ THE LEDGE
DESCRIPTION:
ATTACH;FMTTYPE=image/jpeg:https://unswoc.org/wordpress/wp-content/uploads/
 2013/07/IMG_4686.jpg
CATEGORIES:Outdoor Climbing
LOCATION:\, \, 
X-APPLE-STRUCTURED-LOCATION;VALUE=URI;X-ADDRESS=\, ;X-APPLE-RADIUS=100;X-TI
 TLE=:geo:0,0
END:VEVENT
END:VCALENDAR