BEGIN:VCALENDAR
VERSION:2.0
PRODID:-//wp-events-plugin.com//7.2.3.1//EN
TZID:Australia/Sydney
X-WR-TIMEZONE:Australia/Sydney
BEGIN:VEVENT
UID:2875@unswoc.org
DTSTART;TZID=Australia/Sydney;VALUE=DATE:20180217
DTEND;TZID=Australia/Sydney;VALUE=DATE:20180218
DTSTAMP:20210304T224317Z
URL:https://unswoc.org/wordpress/events/climbing-rosa-gully/
SUMMARY:Climbing @ Rosa Gully
DESCRIPTION:\n\nThis weekend Tad and I will be heading to Rosa Gulley for s
 ome more sport climbing. We'll meet at the crag around 8.30am and take it 
 from there. Let me know in the comments how you plan to get there and what
  your climbing experience is :)\n\nYou will need:\n\n 	Helmet\n 	Harness\n
  	Climbing shoes\n 	Safety sling and locking carabiner\n 	ATC and locking 
 carabiner\n 	Food/water\n 	Sunscreen\n 	Backpack for all the above\n\nAny 
 questions\, let me know via facebook :)
CATEGORIES:Outdoor Climbing
END:VEVENT
BEGIN:VTIMEZONE
TZID:Australia/Sydney
X-LIC-LOCATION:Australia/Sydney
BEGIN:DAYLIGHT
DTSTART:20171001T030000
TZOFFSETFROM:+1000
TZOFFSETTO:+1100
TZNAME:AEDT
END:DAYLIGHT
END:VTIMEZONE
END:VCALENDAR