BEGIN:VCALENDAR
VERSION:2.0
PRODID:-//wp-events-plugin.com//7.2.3.1//EN
TZID:Australia/Sydney
X-WR-TIMEZONE:Australia/Sydney
BEGIN:VEVENT
UID:3441@unswoc.org
DTSTART;TZID=Australia/Sydney;VALUE=DATE:20240720
DTEND;TZID=Australia/Sydney;VALUE=DATE:20240721
DTSTAMP:20240719T214836Z
URL:https://unswoc.org/wordpress/events/climbing-rescue-skills-training-da
 y/
SUMMARY:*FULL* Climbing Rescue Skills Training Day
DESCRIPTION:Hey everyone\,\n\nIn April a group of trip leaders (Amelia V\, 
 Amelia K\, Linna &amp\; Emily) attended a Climbing Rescue Skills Course wi
 th some funding from the uni and the club\, and now we want to bring those
  skills back to everyone!\n\nWe will head outdoors to Narrabeen Slabs and 
 cover as much as we can\, with a focus on the skills required for "Level 2
  Climbing Trip leaders" and multipitching skills. Please see the following
  document for an outline of these skills:\n\nUNSWOC Trip Leader Skillsets\
 n\nAnyone with "Level 1" climbing skills who are looking to upskill feel f
 ree to sign up. Include in your sign up comment a detailed outline of your
  skills and a link to your Facebook (preferred) or phone number and we mig
 ht give you a call if we have questions.\n\nBring any gear you have\, part
 icularly ascending/descending stuff\, prusiks\, pulleys\, anchor building 
 material in addition to regular sport climbing kit. Don't forget food\, wa
 ter\, sun protection\, warm clothes etc.\n\nYou will at least need the fol
 lowing items (which you can rent from the club):\n\n 	harness\n 	helmet\n 
 	climbing shoes\n 	belay device + carabiner\n 	sling + carabiner\n 	prusik
 s (2x)\n\nPS if anyone is available to help out with the training feel fre
 e to send me a message\n\nCheers\,\n\nAmelia K\, Gabriel D
CATEGORIES:Climbing,Training
LOCATION:https://www.google.com/maps/place/Narrabeen+Slab/@-33.7160118,151.
 2539603,17z/data=!3m1!4b1!4m6!3m5!1s0x6b0d55ecde29c6af:0xc970dc7fddd79c6f!
 8m2!3d-33.7160118!4d151.2565352!16s%2Fg%2F11rp7vk3wn?entry=ttu
END:VEVENT
BEGIN:VTIMEZONE
TZID:Australia/Sydney
X-LIC-LOCATION:Australia/Sydney
BEGIN:STANDARD
DTSTART:20240407T020000
TZOFFSETFROM:+1100
TZOFFSETTO:+1000
TZNAME:AEST
END:STANDARD
END:VTIMEZONE
END:VCALENDAR