BEGIN:VCALENDAR
VERSION:2.0
PRODID:-//wp-events-plugin.com//7.2.3.1//EN
TZID:Australia/Sydney
X-WR-TIMEZONE:Australia/Sydney
BEGIN:VEVENT
UID:302@unswoc.org
DTSTART:20130913T210000Z
DTEND:20130916T070000Z
DTSTAMP:20130912T211642Z
URL:https://unswoc.org/wordpress/events/climbing-nough-said/
SUMMARY:CLIMBING! ('nough said)
DESCRIPTION:Sport climbing at Barden's Lookout YAAAY! :D\n\nA car-full of u
 s are heading up on Saturday morning at 8am. Most are heading back on Satu
 rday night\, but a few of us are camping at Mt. York to climb on Sunday an
 d Monday\, so feel free to come join us! :D\n\nThe car is currently full\,
  but the crag is also accessible from Mount Victoria train station\n\nWhat
  to bring: lunch\, harness\,shoes\, rain jacket and if you have any other 
 gear (belay device\, slings\, quickdraws etc.)\,that would be great!\n\nem
 ail me if you have any questions :)\n\nCurrent plan for Saturday is to cli
 mb at Little Triggers Wall in Barden's Lookout\, but if someone would like
  to suggest something else there are loads of crags in the area :) Sunday 
 and Monday hasn't been decided yet\n\nhttp://www.thecrag.com/climbing/aust
 ralia/blue-mountains/the-main-wall
LOCATION:Barden's Lookout\, \, 
GEO:0.000000;0.000000
X-APPLE-STRUCTURED-LOCATION;VALUE=URI;X-ADDRESS=\, ;X-APPLE-RADIUS=100;X-TI
 TLE=Barden's Lookout:geo:0.000000,0.000000
END:VEVENT
END:VCALENDAR