BEGIN:VCALENDAR
VERSION:2.0
PRODID:-//wp-events-plugin.com//7.2.3.1//EN
TZID:Australia/Sydney
X-WR-TIMEZONE:Australia/Sydney
BEGIN:VEVENT
UID:2263@unswoc.org
DTSTART:20180714T213000Z
DTEND:20180715T080000Z
DTSTAMP:20180715T111116Z
URL:https://unswoc.org/wordpress/events/climbing-narrabeen/
SUMMARY:Climbing at Narrabeen!
DESCRIPTION:Feeling spontaneous? Come along tomorrow for some climbing at 
 Narrabeen :D\n\nIf you'd like to come make sure to send me a fb message wi
 th the following details:\n\n1) Do you need any climbing gear?\n\n2) Do yo
 u have a car?\n\n3) Your climbing level/experience\n\nKit list:\n\n 	Climb
 ing shoes\n 	Climbing helmet (can be borrowed)\n 	Harness (can be borrowed
 )\n 	Belay device and locking carabiner (can be borrowed)\n 	Food and wate
 r for the day. At least 1.5L of water\n 	Walking shoes\n 	Backpack for all
  of the above\n 	Enthusiasm\n
CATEGORIES:Outdoor Climbing
END:VEVENT
END:VCALENDAR