BEGIN:VCALENDAR
VERSION:2.0
PRODID:-//wp-events-plugin.com//7.2.3.1//EN
TZID:Australia/Sydney
X-WR-TIMEZONE:Australia/Sydney
BEGIN:VEVENT
UID:542@unswoc.org
DTSTART:20140829T223000Z
DTEND:20140830T050000Z
DTSTAMP:20140826T174414Z
URL:https://unswoc.org/wordpress/events/climbing-mt-york/
SUMMARY:Climbing - Mt York
DESCRIPTION:All of a sudden I'm not working Saturday\, so why not go climbi
 ng! Beginners welcome as long as someone is able to pick up some climbing 
 gear tonight (Wednesday night) and bring it up on Saturday. If you'd like
  to come and ideally have a car then please pick up from the gear cupboard
  tonight between 5-6pm 10 harnesses\, 10 helmets\, 4 dynamic ropes and wha
 tever climbing shoes you can grab. I would myself\, but I'm in Orange :)\
 n\nI'd also like another experienced climber to come along and help out - 
 any volunteers?\n\nVenue is Mt York\, which you need a car to get to\, but
  we should be able to organise picking people up from Mt Victoria train 
 station. If you're a beginner already signed up for Brendan's trip next w
 eekend then please don't sign up this trip straight away - give those who 
 missed out signing up for next weekend a chance to sign up first.\n\nIf yo
 u sign up please send me an email to peddey@gmail.com just letting me know
  about what experience you have and what gear of your own you already have
 . Also if you have a car and would be willing to drive. You're also welco
 me to give me a call on 0411 467 041.\n\nYou'll need to bring on the day l
 unch\, snacks\, water\, warm clothes and waterproof clothes.
CATEGORIES:Outdoor Climbing
END:VEVENT
END:VCALENDAR