BEGIN:VCALENDAR
VERSION:2.0
PRODID:-//wp-events-plugin.com//7.2.3.1//EN
TZID:Australia/Sydney
X-WR-TIMEZONE:Australia/Sydney
BEGIN:VEVENT
UID:2251@unswoc.org
DTSTART;VALUE=DATE:20180525
DTEND;VALUE=DATE:20180528
DTSTAMP:20180502T071403Z
URL:https://unswoc.org/wordpress/events/climbing-mt-kosciuszko/
SUMMARY:Climbing Mt Kosciuszko!
DESCRIPTION:For all who want an easy start to their seven summits\, this is
  the trip for you! While the drive down might be draining\, the views and 
 sense of achievement are worth it.\n\nConnor and I will be taking two grou
 ps down\, one for intermediate hikers and one for experienced hikers. Both
  groups will drive down Friday night\, and camp at dead horse gap.\n\nOn S
 aturday group 1 will hike up to the rams heads\, and then to kosciuscko\, 
 before heading over to the camp site at Wilkinson's creek. Total distance 
 is around 13km\, 700m of elevation gain.\n\nGroup 2 will do a very early c
 ar shuffle Saturday morning to geehi\, before climbing up hannels spur to 
 Kosciuszko\, and then meet the other group at Wilkinson's creek to camp fo
 r the night. Distance is 20km\, and elevation gain is 2000m.\n\nOn Sunday\
 , both groups will walk back down to dead horse gap\, and drive back to Sy
 dney.\n\nBecause we will be up in the mountains during may\, it will be co
 ld\, and you will need to be prepared for bad weather (think snow storm). 
 Combined with the large amount of climbing\, this means that this is not a
  beginners trip.\n\nPlease message me on FB with your experience.
CATEGORIES:Hectic Hiking
END:VEVENT
END:VCALENDAR