BEGIN:VCALENDAR
VERSION:2.0
PRODID:-//wp-events-plugin.com//7.2.3.1//EN
TZID:Australia/Sydney
X-WR-TIMEZONE:Australia/Sydney
BEGIN:VEVENT
UID:562@unswoc.org
DTSTART;VALUE=DATE:20140914
DTEND;VALUE=DATE:20140915
DTSTAMP:20140912T212200Z
URL:https://unswoc.org/wordpress/events/climbing-mt-alex/
SUMMARY:Climbing - Mt Alex
DESCRIPTION:A few of us are going to Mt Alexandra tomorrow. If you have you
 r own gear you are welcome to come and hang out with us.\n\nKylie (0422976
 824)
CATEGORIES:Outdoor Climbing
END:VEVENT
END:VCALENDAR