BEGIN:VCALENDAR
VERSION:2.0
PRODID:-//wp-events-plugin.com//7.2.3.1//EN
TZID:Australia/Sydney
X-WR-TIMEZONE:Australia/Sydney
BEGIN:VEVENT
UID:3501@unswoc.org
DTSTART;TZID=Australia/Sydney:20241010T170000
DTEND;TZID=Australia/Sydney:20241010T193000
DTSTAMP:20241007T054839Z
URL:https://unswoc.org/wordpress/events/climbing-lvl-1-workshop-thursday-l
 edge-10-10-24/
SUMMARY:CLIMBING LVL 1 Workshop - Thursday (Ledge) 10/10/24
DESCRIPTION:Hi Everyone!\n\nMyself (Gabriel)\, and Amelia V will be running
  a level 1 Trip Leader CLIMBING workshop on the (Thursday) 10th of October
 \, starting at 5pm at THE LEDGE.\n\n&nbsp\;\n\nThis workshop is for TLITs 
 mainly\, but is open to anyone (upon approval) with serious intention of b
 ecoming a UNSWOC Trip leader.\n\nThe goal is the workshop is to cover the 
 following learning items\;\n\n● Confident and competent in managing part
 icipants on trips\n● Understand and be able to identify rope types and t
 heir uses (single\, double\, half)\n● Understand the importance of end k
 nots\, including appropriate knots and when to use them\n● Understand fa
 ll factors and its impact on rope longevity\n● Teach and identify mistak
 es when lead belaying with an ATC and GriGri (or similar)including avoidin
 g tunnelling\, keeping hand on the brake strand at all times\, correctly g
 iving slack\, keeping fingers off the cam and hands below the device\n● 
 Understand and practice climbing calls such as ‘TAKE!’\, ‘SLACK!’\
 , ‘IN HARD!’\,‘LOWER!'\n● Teach the 5 step belaying process with a
 n ATC and GriGri\n● Demonstrate and identify the importance of clipping 
 (stick clip high first bolt\, avoiding z-clipping and back-clipping\, when
  to clip high or clip at waist height\, clipping technique with each hand 
 and gate combination)\n● Demonstrate and identify the effects of rope dr
 ag\n● Demonstrate and identify the importance of avoiding foot faults\n
 ● Understand and inspect different bolts such as U-bolts\, carrot bolts 
 with bolt plates\, expansion bolts\n● Understand the importance of corre
 ct quickdraw orientation (spine facing direction of climb and dogbone stif
 f side to rope\, loose side to rock)\n● Demonstrate and understand the c
 orrect technique for clipping a quickdraw to a carrot bolt and fixed hange
 r\n● Set up and inspect a top rope setup with a quad anchor ensuring scr
 ews on gates are facing down\, gates are opposite and opposed\, locking ca
 rabiners are used instead of quickdraws\, and that the anchor is redundant
  and load is distributed\n● Demonstrate and teach the cleaning of a clim
 b ensuring two points of contact at all times\n● Demonstrate tying off a
  variety of belay devices (ATC\, GriGri)\n● Demonstrate self-rescue and 
 is self-sufficient on a trip\n\n&nbsp\;\n\nTHESE ARE WHAT WILL BE REVIEWED
  AND PRACTISED\, ALONG WITH THE GENERAL ROPEWORK SKILLS (LINK BELOW)\n\nYo
 u can find the complete list\, + the General ropework skills HERE\n\n&nbsp
 \;\n\nSignups will close the morning of. As a member\, you are expected to
  complete some pre-reading\, which i will send out to aproved members. Thi
 s is critical that you do this\, as it saves time and energy on the night.
 \n\nThis workshop isnt the be all end all\, but merely a start\, to learni
 ng the ins and outs of being a safe\, effective\, and fun trip leader for 
 climbing. No matter your climbing discipline\, its imperative that you kno
 w all of the learning items. (bouldering is more of an exception with the 
 hard skills\, but soft skills are just as important)\n\n&nbsp\;\n\nFeel fr
 ee to shoot myself (Gabriel) a message on facebook if you have any questio
 ns.\n\nThis is a rare opportunity\, and a great way to learn trips and tri
 cks. There will be limited spots TBC\, so please sign up early.\n\nIn the 
 comment\, let me know your climbing experience/technical knowledge\, and k
 eeness!\n\n&nbsp\;\n\nMany thanks\, and hope to see many of you there!\n\n
 Gabriel and Amelia!
CATEGORIES:Training
LOCATION:https://www.google.com/maps/place/The+Ledge+Climbing+Centre/@-33.8
 874011,151.1836612,1377m/data=!3m3!1e3!4b1!5s0x6b12b02b4f82d411:0x842a6bbe
 c3225f36!4m6!3m5!1s0x6b12b02b45883365:0x929b3a7adf435289!8m2!3d-33.8874056
 !4d151.1862361!16s%2Fg%2F1tg2dnb0?hl=en&entry=ttu&g_ep=EgoyMDI0MDkyOS4wIKX
 MDSoASAFQAw%3D%3D
END:VEVENT
BEGIN:VTIMEZONE
TZID:Australia/Sydney
X-LIC-LOCATION:Australia/Sydney
BEGIN:DAYLIGHT
DTSTART:20241006T030000
TZOFFSETFROM:+1000
TZOFFSETTO:+1100
TZNAME:AEDT
END:DAYLIGHT
END:VTIMEZONE
END:VCALENDAR