BEGIN:VCALENDAR
VERSION:2.0
PRODID:-//wp-events-plugin.com//7.2.3.1//EN
TZID:Australia/Sydney
X-WR-TIMEZONE:Australia/Sydney
BEGIN:VEVENT
UID:843@unswoc.org
DTSTART:20150519T050000Z
DTEND:20150519T070000Z
DTSTAMP:20150428T062343Z
URL:https://unswoc.org/wordpress/events/climbing-lessons-2015-05-19/
SUMMARY:Climbing Lessons
DESCRIPTION:Hello dedicated climbers!!\n\nHave you gotten to the point with
  your climbing where you just can't progress anymore? Or maybe you just wa
 nt to fast track your improvement?\nWell I've got an offer you might be in
 terested in!\n\nThe amazing boulderer Laelia has offered to do 4  group c
 limbing lessons for a TINY $20!! Not a session\, ONE payment of $20 to cov
 er all four lessons!! (you will also have to pay general admission to ente
 r The Ledge each time\, $8 + equipment needed).\nThere will be one lesson 
 per week and each lesson will go for 2 hours\, during which Laelia will ta
 ke you through a variety of techniques and will also help you with any spe
 cific problems you have.\n\nThere are only 8 positions available\, which m
 eans there will be plenty of 1 on 1 time but also means it will fill up fa
 st!!\n\nIf you have any questions comment on the facebook event.\n\nHappy 
 climbing!
ATTACH;FMTTYPE=image/jpeg:https://unswoc.org/wordpress/wp-content/uploads/
 2015/04/CIMG1232.jpg
CATEGORIES:Outdoor Climbing
LOCATION:\, \, 
X-APPLE-STRUCTURED-LOCATION;VALUE=URI;X-ADDRESS=\, ;X-APPLE-RADIUS=100;X-TI
 TLE=:geo:0,0
END:VEVENT
END:VCALENDAR