BEGIN:VCALENDAR
VERSION:2.0
PRODID:-//wp-events-plugin.com//7.2.3.1//EN
TZID:Australia/Sydney
X-WR-TIMEZONE:Australia/Sydney
BEGIN:VEVENT
UID:2621@unswoc.org
DTSTART;TZID=Australia/Sydney:20200305T180000
DTEND;TZID=Australia/Sydney:20200305T190000
DTSTAMP:20200303T105025Z
URL:https://unswoc.org/wordpress/events/climbing-knots-at-the-ledge/
SUMMARY:Climbing Knots At the Ledge
DESCRIPTION:
END:VEVENT
BEGIN:VTIMEZONE
TZID:Australia/Sydney
X-LIC-LOCATION:Australia/Sydney
BEGIN:DAYLIGHT
DTSTART:20191006T030000
TZOFFSETFROM:+1000
TZOFFSETTO:+1100
TZNAME:AEDT
END:DAYLIGHT
END:VTIMEZONE
END:VCALENDAR