BEGIN:VCALENDAR
VERSION:2.0
PRODID:-//wp-events-plugin.com//7.2.3.1//EN
TZID:Australia/Sydney
X-WR-TIMEZONE:Australia/Sydney
BEGIN:VEVENT
UID:1998@unswoc.org
DTSTART:20160408T070000Z
DTEND:20160410T100000Z
DTSTAMP:20160404T151321Z
URL:https://unswoc.org/wordpress/events/climbing-in-the-wolgan/
SUMMARY:Climbing in the Wolgan
DESCRIPTION:Eamonn and I are running a trip to the legendary Wolgan Valley 
 to slaughter splitters and jamb our way to the hearts of millions.\n\nWe'l
 l provide a bit of instruction in crack climbing and trad multi-pitching i
 f you're keen to improve your skills. Feel free to sign up if you are happ
 y leading at least grade 14 trad or have someone to second. If in doubt me
 ssage me your interest and I'll let you know if there's a leader on the lo
 ose.\n\nOn the menu are the classic cracks at Coke Ovens and some longer r
 outes at Old Baldy - there's potential to link the two tiers into a 6 pitc
 h adventure if you're keen!\n\nhttps://www.thecrag.com/climbing/australia/
 wolgan-valley\n\nWe plan to leave Friday evening 6pm and back Sunday eveni
 ng. We'll camp in the same place as last year's semester 2 Boree Log\, whi
 ch will bring back fond memories I'm sure...\n\n&nbsp\;
ATTACH;FMTTYPE=image/jpeg:https://unswoc.org/wordpress/wp-content/uploads/
 2016/04/sizzler_cover.jpg
CATEGORIES:Outdoor Climbing
END:VEVENT
END:VCALENDAR