BEGIN:VCALENDAR
VERSION:2.0
PRODID:-//wp-events-plugin.com//7.2.3.1//EN
TZID:Australia/Sydney
X-WR-TIMEZONE:Australia/Sydney
BEGIN:VEVENT
UID:3355@unswoc.org
DTSTART;TZID=Australia/Sydney:20231116T190000
DTEND;TZID=Australia/Sydney:20231116T210000
DTSTAMP:20231022T120121Z
URL:https://unswoc.org/wordpress/events/climbing-film-tour-discounted-tick
 ets/
SUMMARY:Climbing Film Tour - Discounted Tickets
DESCRIPTION:CLIMBING FILM TOUR 2023\n\n\nHey Everyone!\n\nThe Climbing Film
  Tour (previously Vertical Life Film Tour) is back for another year! So ge
 t ready to be inspired by this amazing series of films. We have been lucky
  enough to receive a discount code for cheaper tickets so sign up if you'r
 e keen! Most of us will be heading to the Randwick Ritz screening on Nov
 ember 16th and it would be fantastic to get a group going together.\n\nHo
 wever\, this isn't the only screening of the film\, you can check it all o
 ut HERE\n\n&nbsp\;\nAbout Climbing Film Tour:\nThe Climbing Film Tour is b
 ack for its 4th season with an awesome selection of short films celebratin
 g the global climbing community.\nJoin us for an inspiring lineup of adven
 ture films. "A New Line" follows Lucy Stirling on a quest to rediscover he
 r love for outdoor climbing and deeper connections with nature. "If It's E
 asy\, It's Not Fun" showcases thrilling desert climbs and paragliding with
  Liv Sansoz\, Zeb Roche\, and filmmaker Aurelie Gonin. "A Stirling Mission
 " explores highlining in Western Australia's Stirling Ranges. "Transcenden
 ce" traces Adrien Costa's journey from cycling to adaptive climbing. "Elec
 tric Avenue" unveils new climbing routes\, and "The Totem Pole" delves int
 o the wilderness's transformative power. Don't miss this adventure!\nClick
  HERE to find out more about these incredible films!\n[embed]https://www.y
 outube.com/watch?v=w572vff2gJU[/embed]\n\n&nbsp\;\nSo how do I get the dis
 count?\nSign up to this event. Once you've been approved we'll add you to 
 a Facebook messenger group for the secret discount code. The discount code
  should give you access to 25% off tickets! If your Facebook profile is no
 t linked to your UNSWOC account\, please include the link in the comment b
 elow.\n\nYou can take your pick of the following two Sydney screenings and
  book your tickets through the official eventbrite event. There are limite
 d tickets so don't miss out!\n\n 	Sydney North - Roseville Cinemas\, Thurs
 day December 7\n 	Sydney East\, - Ritz Cinemas\, Thursday November 16\n\n&
 nbsp\;\nHow will I know how to find everyone else?\nThat's the beauty of t
 he messenger group! Don't worry if you don't know anyone else going. We'd 
 love to have as many people join us as possible and it's always good to me
 et some more fellow outdoors enthusiasts. It's sure to be a great night! M
 ost of us will be headed to the Ritz Screening so do come along and join
  the fun!\n\n-------------------------------------------------------------
 --------------\n\nIf you have any questions\, feel free to contact me\, Am
 elia Vasiliou\, on messenger\n\nCan't wait to see everyone there!
CATEGORIES:Social Event
LOCATION:https://maps.app.goo.gl/RZdH7YJz6zMhLnLJ8
END:VEVENT
BEGIN:VTIMEZONE
TZID:Australia/Sydney
X-LIC-LOCATION:Australia/Sydney
BEGIN:DAYLIGHT
DTSTART:20231001T030000
TZOFFSETFROM:+1000
TZOFFSETTO:+1100
TZNAME:AEDT
END:DAYLIGHT
END:VTIMEZONE
END:VCALENDAR