BEGIN:VCALENDAR
VERSION:2.0
PRODID:-//wp-events-plugin.com//7.2.3.1//EN
TZID:Australia/Sydney
X-WR-TIMEZONE:Australia/Sydney
BEGIN:VEVENT
UID:3693@unswoc.org
DTSTART;TZID=Australia/Sydney:20251112T173000
DTEND;TZID=Australia/Sydney:20251112T210000
DTSTAMP:20251111T225233Z
URL:https://unswoc.org/wordpress/events/climbing-film-tour-2025/
SUMMARY:Climbing Film Tour 2025
DESCRIPTION:Hey everyone!\n\nIf you enjoyed or missed out on this year's pr
 evious film nights\, get keen for another! Climbing Film Tour is back this
  year and we're lucky enough to get discounted tickets. Expect some very c
 ool short films about climbing (who would've guessed!?) and the climbing c
 ommunity. Check out the trailer here!\n\nIf you're free and feeling social
  before the show\, we'll grab dinner at around 5:30 at the Regent Hotel (n
 ear uni) and would love to everyone to come along. If not\, the film start
 s at 7pm and you can just meet us there. Sign up on this post and I'll add
  you to a messenger chat where I'll share the code for the discounted tick
 ets. No need to put a comment for this one\, but if you want to you can te
 ll me the best outdoors-related documentary you've ever seen :)\n\nDon’t
  worry if you don’t know anyone else going. We’d love to have as many 
 people join us as possible and it’s always good to meet some more fellow
  outdoors enthusiasts. Just sign up and we’ll all meet up before we head
  in. If you have any questions or concerns (or just want to say hi!)\, don
 't hesitate to reach out to me (Callum) on messenger (link to my profile h
 ere) or via email at events@unswoc.org. Feel free to bring other friends a
 long too. It’s sure to be a great night!\nAbout the Films:\nLES PASSAGER
 S DU VIDE AND THE TREASURE OF THE ARAVIS GATE: six highliners stretch a 20
 0-metre line above the alpine village of La Giett’. What begins as a hun
 t for a mythical treasure becomes a breathtaking meditation on balance\, f
 ear\, and friendship.\n\nCLIMB TOGETHER: in Khon Kaen\, Thailand\, “O
 ” Hongliam and an international crew turn local cliffs into a sustainabl
 e climbing destination. Their work proves that opening routes can also ope
 n minds and strengthen communities.\n\nBEAUTY IN A FALL: Canadian mountain
  guide Julianna Howatt confronts trauma and identity after a life-changing
  accident. Her journey redefines what strength and authenticity look like 
 in the mountains.\n\nLA RUBIA: burned out from years on Big Walls\, Bronwy
 n Hodgins takes on La Rubia (5.14c / 8c+) in Spain. This all-female film c
 aptures the mental and physical intensity of chasing progress — and the 
 grounding power of friendship.\n\nFIRST RUSH: after surviving a lightning 
 strike\, Marina confronts her fear head-on through sea cliff climbing. Her
  story is a raw exploration of vulnerability\, courage\, and rediscovering
  purpose.\n\nAll film descriptions are taken from the Climbing Film Tour w
 ebsite\, which has more info for anyone who wants to check it out!
ATTACH;FMTTYPE=image/jpeg:https://unswoc.org/wordpress/wp-content/uploads/
 2025/10/climbingfilmtour.jpg
CATEGORIES:Social Event
LOCATION:https://maps.app.goo.gl/JH6korozTEQ2tkmV6
END:VEVENT
BEGIN:VTIMEZONE
TZID:Australia/Sydney
X-LIC-LOCATION:Australia/Sydney
BEGIN:DAYLIGHT
DTSTART:20251005T030000
TZOFFSETFROM:+1000
TZOFFSETTO:+1100
TZNAME:AEDT
END:DAYLIGHT
END:VTIMEZONE
END:VCALENDAR