BEGIN:VCALENDAR
VERSION:2.0
PRODID:-//wp-events-plugin.com//7.2.3.1//EN
TZID:Australia/Sydney
X-WR-TIMEZONE:Australia/Sydney
BEGIN:VEVENT
UID:2190@unswoc.org
DTSTART;VALUE=DATE:20171028
DTEND;VALUE=DATE:20171029
DTSTAMP:20171018T005753Z
URL:https://unswoc.org/wordpress/events/climbing-baldy-saturday/
SUMMARY:Climbing at old baldy (Saturday -intermediate/advanced only)
DESCRIPTION:---- you need to be approved for Boree Log to attend this trip!
  ----\n\nGet ready for an epic!\n\nThe Stare (also know as Alastair) and m
 e are running a climbing trip to old baldy\, a multipitch area in the Wolg
 an\, on Saturday.\n\n\n\nWell\, actually it looks like this:\n\n\n\nMore i
 nfo here https://www.thecrag.com/climbing/australia/wolgan-valley/area/117
 70717.\n\nThis is an intermediate/advanced trip as this is mostly trad wit
 h few low grades. However\, we will setup some topropes so you wont have t
 o be a trad leader\, but need to be able to climb at least 18 sport on top
  rope. We will only do SINGLE pitch.\nAs Alastair is on the team\, this wi
 ll surely be a good adventure\, so be brave and join us for an epic day ou
 t!\n\nWhen you sign up\, please comment with your experience\, otherwise y
 ou wont be approved.\n\nCheers\,\n\nSteffi and Alastair
CATEGORIES:Outdoor Climbing
END:VEVENT
END:VCALENDAR