BEGIN:VCALENDAR
VERSION:2.0
PRODID:-//wp-events-plugin.com//7.2.3.1//EN
TZID:Australia/Sydney
X-WR-TIMEZONE:Australia/Sydney
BEGIN:VEVENT
UID:2881@unswoc.org
DTSTART;TZID=Australia/Sydney:20210310T120000
DTEND;TZID=Australia/Sydney:20210310T190000
DTSTAMP:20210308T001921Z
URL:https://unswoc.org/wordpress/events/climbing-anchors-club-discount-day
 -wednesday-10th-march/
SUMMARY:Climbing Anchors Club Discount Day - Wednesday 10th March
DESCRIPTION:Hey all\,\n\n&nbsp\;\n\nHave you just gotten into climbing and 
 want to buy your first shoes or harness. Or are you a veteran and recently
  dropped your favourite Cams at Point Perp.\n\n&nbsp\;\n\nWell this Wednes
 day the 10th of March\, our good friends at Climbing Anchors Alexandria ar
 e putting on a special club discount night just for current uni club membe
 rs\n\n&nbsp\;\n\nNote\, you must sign up to this event before attending. T
 here are two time slots available\, 12 - 4pm and 4 - 7pm. Please do your b
 est to arrive in the one you select and then leave before the next one beg
 ins. Each slot has 20 spots available. This way everyone gets into the sto
 re and we can all enjoy some sweet Covid safe deals.\n\n&nbsp\;\n\nSpecial
  club member Deals include:\n\n 	37% off Energy Harnesses\, from $79.95 do
 wn to $50\n 	25% off Butora Climbing shoes\n 	25% off Smart Lite 60m Ropes
 \n 	29% off Camp Titan helmets\, from $84.95 down to $60\n 	Plus more disc
 ounts on harnesses\, shoes\, ropes\, helmet and chalk bags\n\n&nbsp\;\n\nR
 emember\, you must bring proof of current membership. This can be a club c
 ard of online proof of current membership via your account page on the web
 site.\n\n&nbsp\;\n\n\n\n&nbsp\;\n\nHope to see you all there.
ATTACH;FMTTYPE=image/jpeg:https://unswoc.org/wordpress/wp-content/uploads/
 2021/03/Insta-Feed_CA-Club-Deals1.jpg
CATEGORIES:Abseiling,Canyoning,Climbing,Social Event
END:VEVENT
BEGIN:VTIMEZONE
TZID:Australia/Sydney
X-LIC-LOCATION:Australia/Sydney
BEGIN:DAYLIGHT
DTSTART:20201004T030000
TZOFFSETFROM:+1000
TZOFFSETTO:+1100
TZNAME:AEDT
END:DAYLIGHT
END:VTIMEZONE
END:VCALENDAR