BEGIN:VCALENDAR
VERSION:2.0
PRODID:-//wp-events-plugin.com//7.2.3.1//EN
TZID:Australia/Sydney
X-WR-TIMEZONE:Australia/Sydney
BEGIN:VEVENT
UID:2865@unswoc.org
DTSTART;TZID=Australia/Sydney:20210225T183000
DTEND;TZID=Australia/Sydney:20210225T200000
DTSTAMP:20210223T054240Z
URL:https://unswoc.org/wordpress/events/cleaning-workshop/
SUMMARY:Cleaning workshop
DESCRIPTION:(Please note that you MUST be signed up to the ledge to attend 
 this session)\n\n&nbsp\;\n\nAre you learning to lead climb outside? Ever w
 ondered what your trip leaders are doing when they are faffing about at th
 e top of a route at the end of the day? Want to magically collect gear and
  come down safely?\n\nThen come to the Ledge Thursday to learn how to clea
 n outdoor anchors with me (Sammy) and Sarah!\n\nThis is an essential skill
  for your safety and to ensure you aren’t leaving your precious gear beh
 ind for others to grab (i.e. crag swag)!\n\nYou need to be:\n\n 	Keen to d
 evelop your outdoor climbing skills\n 	Physically at the ledge at 6:30pm\n
 \nYou need to bring:\n\n 	Your harness\n 	Two locking carabiners\n 	A self
 -anchor/safety sling/daisy chain/belay sling (yes\, these are all differen
 t words for the same thing)\n\nIf you don’t have a safety sling or carab
 iners\, do not fret! If you get onto the workshop just shoot me a message 
 (Sammy Millard) and I can bring for you (if you don’t have facebook\, pu
 t your email in the comments).\n\nWe will be cleaning from 6:30pm and then
  just keep going until everyone feels confident\, but feel free to climb b
 efore or after.\n\nLooking forward to the clean up!
CATEGORIES:Outdoor Climbing,Training
END:VEVENT
BEGIN:VTIMEZONE
TZID:Australia/Sydney
X-LIC-LOCATION:Australia/Sydney
BEGIN:DAYLIGHT
DTSTART:20201004T030000
TZOFFSETFROM:+1000
TZOFFSETTO:+1100
TZNAME:AEDT
END:DAYLIGHT
END:VTIMEZONE
END:VCALENDAR