BEGIN:VCALENDAR
VERSION:2.0
PRODID:-//wp-events-plugin.com//7.2.3.1//EN
TZID:Australia/Sydney
X-WR-TIMEZONE:Australia/Sydney
BEGIN:VEVENT
UID:2210@unswoc.org
DTSTART;VALUE=DATE:20180120
DTEND;VALUE=DATE:20180122
DTSTAMP:20210303T060526Z
URL:https://unswoc.org/wordpress/events/claustral-climb/
SUMMARY:Claustral and climb
DESCRIPTION:Join Jenny and I (Nadav) for an epic weekend of canyoning and c
 limbing in the Blue Mountains!\n\nThe plan: drive up from Sydney on Saturd
 ay morning\, do Claustral canyon\, camp at Pierces Pass\, go climbing at B
 arden's on Sunday.\n\nYou will need:\n\n 	A water brick\n 	Food for both d
 ays\n 	Camping gear (Stove\, tent\, sleeping bag\, sleeping mat)\n 	Wetsui
 t (Can be borrowed from the club)\n 	Board shorts (to wear over wetsuit)\n
  	Helmet (Can be borrowed)\n 	Harness (Can be borrowed)\n 	descender and c
 arabiner (Can be borrowed)\n 	Safety sling and biner (Can be borrowed)\n 	
 Backpack\n 	Dry bag\n 	Enclosed Shoes (Volleys are the best\, I use Dive b
 oots\, old sneakers work too)\n 	Woollen socks\n 	Headtorch\n 	Thermals (n
 ot cotton!) if you’re an extra cold person\, to wear underneath\n 	Dry C
 lothes/thermals/jumper for emergency (inside drybag)\n 	Dry clothes to lea
 ve in car\n 	Sunscreen\n 	Climbing shoes\n 	Any other climbing gear e.g. q
 uickdraws that you own\n\nAny questions\, shoot me a message on facebook.
END:VEVENT
END:VCALENDAR