BEGIN:VCALENDAR
VERSION:2.0
PRODID:-//wp-events-plugin.com//7.2.3.1//EN
TZID:Australia/Sydney
X-WR-TIMEZONE:Australia/Sydney
BEGIN:VEVENT
UID:319@unswoc.org
DTSTART;VALUE=DATE:20131126
DTEND;VALUE=DATE:20131127
DTSTAMP:20131125T015529Z
URL:https://unswoc.org/wordpress/events/claustral-canyon-day-trip/
SUMMARY:Fortress Canyon Day Trip
DESCRIPTION:A day trip to Claustral canyon on Tuesday the 26th Nov. A bunch
  of us are leaving really early in the morning\, around 5am!\n\nUPDATE:\n\
 nAfter much deliberation we have decided to do Fortress canyon as it is c
 loser by car so we don't have to leave too early and is a lot less involve
 d than Claustral canyon.\n\nThere is a group leaving by car from Kingsford
  McDonalds at 6:30 am\, but unfortunately there is no more room in the car
 . However if you feel like joining us\, there is a group catching a train 
 to Leura (catch the train that gets to Leura at 9:18 am). Feel free to cat
 ch a train with them and I shall pick you up on the other end.\n\nMy phone
  number is 0433390216 should you have any questions.\n\nQuick Gear Checkli
 st:\n- Harness\n- Belay or abseil device\n- Wetsuit\n- Helmet\n- Headlamp\
 n- Safety sling\n- Lunch\n- Water\n\nhttp://ozultimate.com/canyoning/track
 _notes/fortress.htm\n\nONCE AGAIN\, WE WILL BE DOING FORTRESS CANYON!!
CATEGORIES:Canyoning
END:VEVENT
END:VCALENDAR