BEGIN:VCALENDAR
VERSION:2.0
PRODID:-//wp-events-plugin.com//7.2.3.1//EN
TZID:Australia/Sydney
X-WR-TIMEZONE:Australia/Sydney
BEGIN:VEVENT
UID:2344@unswoc.org
DTSTART:20181124T220000Z
DTEND:20181125T010000Z
DTSTAMP:20181120T052631Z
URL:https://unswoc.org/wordpress/events/chill-walk-campground/
SUMMARY:BL Sunday - Chill Hiking Trip
DESCRIPTION:For those of you too exhausted (or hungover) to do anything str
 enuous\, come along for a chill hike on the Bellbird Ridge Lookout Track.\
 n\nDeparture time: 9:00 or so from Boree Log (Dunphy's Campground)\n\nSlap
  on some sunscreen\, a hat and some sunglasses to hide your tired eyes and
  we'll get going. I anticipate that we will be back at the campground by a
 bout 12:00.\n\nMake sure you have at least 1.5L of water to stay hydrated 
 throughout the walk and wear suitable shoes for hiking. Long pants with ai
 rflow are a good idea because shorts are not fun whilst bush bashing.\n\nL
 et me know if you have any medical issues.
CATEGORIES:Bushwalking
END:VEVENT
END:VCALENDAR