BEGIN:VCALENDAR
VERSION:2.0
PRODID:-//wp-events-plugin.com//7.2.3.1//EN
TZID:Australia/Sydney
X-WR-TIMEZONE:Australia/Sydney
BEGIN:VEVENT
UID:3782@unswoc.org
DTSTART;TZID=Australia/Sydney;VALUE=DATE:20260411
DTEND;TZID=Australia/Sydney;VALUE=DATE:20260412
DTSTAMP:20260409T114519Z
URL:https://unswoc.org/wordpress/events/caving-trip-leader-training-tl-tli
 t/
SUMMARY:Caving Trip Leader Training TL / TLIT
DESCRIPTION:Zee and I will be heading down to Bungonia on Sat 11th to run s
 ome training for our caving trip leaders. The aim is to upskill and check 
 off some of the training objectives!\nThe specific agenda will be tailored
  based on attendees\, but we'll be looking to cover cave navigation\, foul
  air\, SRT rigging\, and perhaps even having some of you lead a trip throu
 gh one of the bungonia caves!\n\nPlease bring your caving SRT gear / borro
 w from the club.\n\n&nbsp\;\n\nIn your comments below\, let us know:\n\na)
  if you have a car or need a lift\n\nb) any specific items you want to cov
 er on the training day\n\nc) what your favourite cave is at Bungonia\n\n&n
 bsp\;\n\n&nbsp\;
ATTACH;FMTTYPE=image/jpeg:https://unswoc.org/wordpress/wp-content/uploads/
 2025/04/IMG_20250118_163848806_HDR-scaled.jpg
CATEGORIES:Caving,Training
LOCATION:https://maps.app.goo.gl/cc3hMJo6nqJ1rkhi7
END:VEVENT
BEGIN:VTIMEZONE
TZID:Australia/Sydney
X-LIC-LOCATION:Australia/Sydney
BEGIN:STANDARD
DTSTART:20260405T020000
TZOFFSETFROM:+1100
TZOFFSETTO:+1000
TZNAME:AEST
END:STANDARD
END:VTIMEZONE
END:VCALENDAR