BEGIN:VCALENDAR
VERSION:2.0
PRODID:-//wp-events-plugin.com//7.2.3.1//EN
TZID:Australia/Sydney
X-WR-TIMEZONE:Australia/Sydney
BEGIN:VEVENT
UID:2910@unswoc.org
DTSTART;TZID=Australia/Sydney;VALUE=DATE:20210529
DTEND;TZID=Australia/Sydney;VALUE=DATE:20210531
DTSTAMP:20210525T213803Z
URL:https://unswoc.org/wordpress/events/caving-to-ye-olde-bungonia/
SUMMARY:Caving to ye olde Bungonia
DESCRIPTION:[caption id="attachment_10607" align="alignnone" width="300"] L
 in\, Matt\, and Jeff looking interested in Bungonia[/caption]\n\nHi there!
 \n\nMatt and i will be leading a caving trip to Bungonia this weekend.\n\n
 At the moment the plan is to drive down Saturday morning\, camp Saturday n
 ight do so more crawling and head back Sunday arvo/night to Sydney. Please
  say what days you are keen for so we can cater for demand.\n\nBungonia ca
 mpground has hot showers and indoor facilities to cook/clean and hang out.
  But you will need to bring all your own gear: tent\, towel etc.\n\nFor th
 ose not in the know caving involves navigating dark underground passages. 
 This can involve walking\, crawling\, squeezing\, abseiling down a drop an
 d ascending back up and getting lost (jokes). It will also involve getting
  quite dirty\, caves aren't clean.\nIn Bungonia most caves are not very fe
 atured so don't expect to see a rooms of amazing features like jenolan cav
 es. But do come prepared for a great adventure!\n\nPlease provide what abs
 eiling/ascending experience you have in the comments.\n\nCaving gear list:
 \n\n 	*Harness\n 	*Safety sling &amp\; biner\n 	*Descender (figure-8 prefe
 rred) &amp\; biner\n 	*2x Prussik &amp\; biner\n 	*Helmet\n 	[optional] Ju
 mars (hand ascender\, chest ascender\, or whatever your preferred set up i
 s etc.) [we can share if you don't have your own]\n 	Headtorch\n 	Back-up 
 light (second headtorch\, ideally 3)\n 	spare batteries (batteries in each
  headtorch\, and one spare set for each headtorch)\n 	lunch\, snacks and r
 igid water bottle\n 	[optional] small backpack (we can share so dont stres
 s too much)\n 	Shoes to get dirty\n 	Clothes to get really dirty if we can
 t get cave suits.\n 	Clothes to wear under cave suits (I usually go for ju
 st a t-shirt/thermal top and leggings)\n 	gloves\n 	covid mask\n 	lighter\
 n 	[optional] Knee and/or elbow pads can make crawling much more comfy if 
 you have them\n 	[optional] camera ( be prepared to lose anything you brin
 g into a cave)\n\nCamping gear list\n\n 	*tent (sharing is good for warmth
  but not covid\, I will leave that to your personal choice)\n 	*sleeping m
 at and bag\n 	warm clothes!!! it will be cold\, check the weather\n 	food 
 and utensils for dinner\n 	towel for them hot showers\n\n—&gt\; items wi
 th a * can be borrowed from club on gear night
ATTACH;FMTTYPE=image/jpeg:https://unswoc.org/wordpress/wp-content/uploads/
 2019/10/DSCN4471.jpg
CATEGORIES:Caving
END:VEVENT
BEGIN:VTIMEZONE
TZID:Australia/Sydney
X-LIC-LOCATION:Australia/Sydney
BEGIN:STANDARD
DTSTART:20210404T020000
TZOFFSETFROM:+1100
TZOFFSETTO:+1000
TZNAME:AEST
END:STANDARD
END:VTIMEZONE
END:VCALENDAR