BEGIN:VCALENDAR
VERSION:2.0
PRODID:-//wp-events-plugin.com//7.2.3.1//EN
TZID:Australia/Sydney
X-WR-TIMEZONE:Australia/Sydney
BEGIN:VEVENT
UID:3785@unswoc.org
DTSTART;TZID=Australia/Sydney;VALUE=DATE:20260411
DTEND;TZID=Australia/Sydney;VALUE=DATE:20260412
DTSTAMP:20260409T114537Z
URL:https://unswoc.org/wordpress/events/caving-tl-training-volunteer-begin
 ners/
SUMMARY:Caving TL training - Volunteer Beginners
DESCRIPTION:We are in need of some beginner cavers who would be keen to hel
 p be crash test dummies for our caving trip leaders in training on Saturda
 y 11th!\n\nIt will be a horizontal caving trip (no vertical SRT rope work)
 . However there will be some crawling\, climbing around rocks\, scrambling
 \, and staring into the abyss.\n\nYou will need:\n\n 	Helmet (can be borro
 wed from the club)\n 	Headlight + spare batteries / backup headlight\n 	Se
 nsible shoes to cave in that will get muddy / dirty\n 	Clothes you can get
  dirty in. Tradie top / bottoms are a great choice. The club has a limited
  selection of overalls that can be borrowed\n 	Gardening gloves\n 	Small p
 acked lunch\n 	Water\n 	Jacket etc\n 	Change of clothes and clean shoes fo
 r the car\n 	Towel + shampoo etc (there are hot showers at Bungonia)\n 	Bi
 g floppy sunhat\n 	Caving sunglasses\n 	Plastic bag to put all your dirty 
 clothes in\n\n&nbsp\;\n\nIn your comments below\, let us know:\n\na) if yo
 u have a car or need a lift\n\nb) what's your favourite cave (or the cave 
 you'd love to visit)\n\nc) what previous caving experience do you have\n\n
 d) what gear do you need to borrow from the club\n\n&nbsp\;\n\n&nbsp\;
ATTACH;FMTTYPE=image/jpeg:https://unswoc.org/wordpress/wp-content/uploads/
 2026/04/IMG-20260409-WA0004-scaled.jpg
CATEGORIES:Caving,Training
LOCATION:https://maps.app.goo.gl/cc3hMJo6nqJ1rkhi7
END:VEVENT
BEGIN:VTIMEZONE
TZID:Australia/Sydney
X-LIC-LOCATION:Australia/Sydney
BEGIN:STANDARD
DTSTART:20260405T020000
TZOFFSETFROM:+1100
TZOFFSETTO:+1000
TZNAME:AEST
END:STANDARD
END:VTIMEZONE
END:VCALENDAR