BEGIN:VCALENDAR
VERSION:2.0
PRODID:-//wp-events-plugin.com//7.2.3.1//EN
TZID:Australia/Sydney
X-WR-TIMEZONE:Australia/Sydney
BEGIN:VEVENT
UID:3618@unswoc.org
DTSTART;TZID=Australia/Sydney:20250719T090000
DTEND;TZID=Australia/Sydney:20250719T170000
DTSTAMP:20250715T111301Z
URL:https://unswoc.org/wordpress/events/caving-skills-workshop/
SUMMARY:Caving Skills Workshop [FULL]
DESCRIPTION:Practical caving skills workshop for anyone attending Wee Jappe
 r-looza 2025 and needs some practise in caving specific toys and technique
 s.\n\nWill be playing on some itty bitty cliffs known as Middle Cove Crag"
  on The Crag.\n\nStuff we'll cover:\n\n 	Using a Petzl Stop and Rack desce
 nder\n 	Prusiking with mechanical ascenders\n 	Ladder (wire ladder) climbi
 ng (including top/bottom belay)\n 	Funky caving knots like Bowline on a bi
 te and Fusion knot\n 	Rebelays of varying difficulty\n 	Redirects\n 	Passi
 ng a knot\n 	Not being a muppet underground 🤣\n\nBring good vibes and s
 nacks to share.\n\nAlso bring (if you have them):\n\n 	\n\n 	Harness\n 	He
 lmet\n 	Personal safety/cows tail\n 	Spare carabiners\n 	Gloves\n 	Chest h
 arness\n 	Mechanical ascenders\n\n\n
CATEGORIES:Abseiling,Caving
LOCATION:https://maps.app.goo.gl/dBMyaw4yhCJu8ANE6
END:VEVENT
BEGIN:VTIMEZONE
TZID:Australia/Sydney
X-LIC-LOCATION:Australia/Sydney
BEGIN:STANDARD
DTSTART:20250406T020000
TZOFFSETFROM:+1100
TZOFFSETTO:+1000
TZNAME:AEST
END:STANDARD
END:VTIMEZONE
END:VCALENDAR