BEGIN:VCALENDAR
VERSION:2.0
PRODID:-//wp-events-plugin.com//7.2.3.1//EN
TZID:Australia/Sydney
X-WR-TIMEZONE:Australia/Sydney
BEGIN:VEVENT
UID:2152@unswoc.org
DTSTART:20170707T130000Z
DTEND:20170720T130000Z
DTSTAMP:20170623T022102Z
URL:https://unswoc.org/wordpress/events/caving-comrades/
SUMMARY:Caving Comrades
DESCRIPTION:Ahoy there fellow cavers!\n\n\nUNSWOC is in for a treat this ye
 ar\, we are planning to go caving in the Nullarbor! Seeing as we still nee
 d to apply for permits and access to these caves\, the trip is not yet 100
 % confirmed. However Australian Geographic has a cool article to get you a
 ll excited regardless:\nhttp://www.australiangeographic.com.au/travel/dest
 inations/2016/04/hidden-nullarbor\n\nThis trip posting is simply to sus ou
 t interest\, experience and numbers. You will need to have significant exp
 erience caving and all of your own equipment. We expect people to be self 
 sufficient and be competent at reading cave maps and underground navigatio
 n. There are two upcoming caving trips (6th May and 25th of May) to prove 
 your underground skills to the trip leaders\, notify them on these trips i
 f you are interested in coming to the Nullarbor.\n\nYou will need to make 
 your own way down\, there is already one car set and ready to go\, but fil
 l in the form below to help us sort you out into vehicles. (preferably veh
 icles that are comfortable with lots of off-road stuffs).\n\nFor any furth
 er questions and inquiries\, please email either:\nspeleo@unswoc.org\nOR\n
 president@unswoc.org
ATTACH;FMTTYPE=image/jpeg:https://unswoc.org/wordpress/wp-content/uploads/
 2017/05/nullarbor.jpg
CATEGORIES:Caving
END:VEVENT
END:VCALENDAR