BEGIN:VCALENDAR
VERSION:2.0
PRODID:-//wp-events-plugin.com//7.2.3.1//EN
TZID:Australia/Sydney
X-WR-TIMEZONE:Australia/Sydney
BEGIN:VEVENT
UID:3458@unswoc.org
DTSTART;TZID=Australia/Sydney:20240724T180000
DTEND;TZID=Australia/Sydney:20240724T210000
DTSTAMP:20240721T113353Z
URL:https://unswoc.org/wordpress/events/caving-ascending-descending-worksh
 op/
SUMMARY:Caving Ascending/Descending Workshop
DESCRIPTION:Hi all!\n\nI'll be running an ascending / descending workshop a
 t the Ledge on Wednesday 24th at 6pm.\n\nWe will be focusing on skills and
  devices specific to caving\, including ascending\, descending\, and basic
  vertical mobility.\n\n\n\nWhere is it?\n\nWednesday 24th at the Ledge 6pm
 .\n\nWho is this for?\n\nThis trip will take priority for members who are 
 doing vertical caves on Bungonia Palooza\, so that they can get practice a
 nd be more comfortable for their trips that weekend.\n\nWhat to bring?\n\n
 The club can provide all the gear you need\, however if you have anything 
 from the following list please bring it!\n\n 	Mechanical ascenders and che
 st loop\n 	Caving abseiling device (RapRak\, Stop\, Simple)\n 	Harness\n 	
 Prussiks and biners\n 	PAS / safety sling and biner\n\nIn the comments\n\n
 Let me know what experience you have with ropes and/or ascending and desce
 nding.\n\nIf you are going on a Bungonia Palooza trip\, and if so which on
 es.\n\nWhy you want to come along to this workshop.\n\n&nbsp\;
CATEGORIES:Caving
LOCATION:https://www.google.com/maps/dir//the+ledge+usyd/data=!4m6!4m5!1m1!
 4e2!1m2!1m1!1s0x6b12b02b45883365:0x929b3a7adf435289?sa=X&ved=1t:3061&ictx=
 111
END:VEVENT
BEGIN:VTIMEZONE
TZID:Australia/Sydney
X-LIC-LOCATION:Australia/Sydney
BEGIN:STANDARD
DTSTART:20240407T020000
TZOFFSETFROM:+1100
TZOFFSETTO:+1000
TZNAME:AEST
END:STANDARD
END:VTIMEZONE
END:VCALENDAR