BEGIN:VCALENDAR
VERSION:2.0
PRODID:-//wp-events-plugin.com//7.2.3.1//EN
TZID:Australia/Sydney
X-WR-TIMEZONE:Australia/Sydney
BEGIN:VEVENT
UID:496@unswoc.org
DTSTART:20140718T210000Z
DTEND:20140720T070000Z
DTSTAMP:20140716T212408Z
URL:https://unswoc.org/wordpress/events/cave-camping-zorro-canyon/
SUMMARY:Cave Camping in Zorro Canyon
DESCRIPTION:Overnight hike and cave camp in Gardens of Stone National Park 
 (Near Lithgow).  We will be heading out to Gardens of Stone to camp in a 
 cave we found recently whilst exploring a canyon.\n\nThe canyon is dry and
  has no abseils\, so all you need to bring is gear for an overnight hike.
   We don’t need tents\, but the cave is quite sandy\, so I would recomm
 end bringing a ground sheet so that you don’t get so much sand in your s
 tuff.  The trip is suitable for beginners with a reasonable level of fitn
 ess.\n\nWe will leave Sydney on Saturday morning\, walk into the cave (onl
 y a couple of kms) then have most of the day to explore the canyon area. 
  We will set up camp (and a fire)\, then walk out the next morning.  We s
 hould be back in Sydney not too late on Sunday afternoon.  If you are abl
 e to drive your car\, let me know and I’ll open the trip up to more peop
 le.  This trip is not close to any train stations.\n\nYou will need to br
 ing:\n\n-Warm clothes\n\n(thermals\, fleece\, down jacket (if you have one
 )\, quick dry pants\, rain jacket\, beanie\, bring plenty of layers it’l
 l be chilly) BUT NO JEANS\, NO COTTON!\n\n-Sturdy walking shoes and woolle
 n or synthetic socks NO CROCS\, NO SANDALS!\n\n-Sleeping bag (very warm 
 –it will be super cold!)\n\n-Sleeping mat\n\n-Food for the two days (and
  an extra meal in case of emergency)\n\n-Stove and pots (if you don’t ha
 ve a stove let me know so I can make sure we have enough others –there w
 ill be a fire too)\n\n-Backpack to put it all in\n\n-Any instruments you w
 ould like to bring along for campfire songs\n\n-Marshmallows are compulsor
 y!\n\n&nbsp\;\n\nAny questions let me know :-)\n\nLaura
CATEGORIES:Bushwalking,Canyoning
LOCATION:Zorro  Canyon\, Gardens of Stone National Park\, Lithgow\, NSW\, A
 ustralia
GEO:-33.480934;150.157410
X-APPLE-STRUCTURED-LOCATION;VALUE=URI;X-ADDRESS=Gardens of Stone National P
 ark\, Lithgow\, NSW\, Australia;X-APPLE-RADIUS=100;X-TITLE=Zorro  Canyon:g
 eo:-33.480934,150.157410
END:VEVENT
END:VCALENDAR