BEGIN:VCALENDAR
VERSION:2.0
PRODID:-//wp-events-plugin.com//7.2.3.1//EN
TZID:Australia/Sydney
X-WR-TIMEZONE:Australia/Sydney
BEGIN:VEVENT
UID:3507@unswoc.org
DTSTART;TZID=Australia/Sydney;VALUE=DATE:20241110
DTEND;TZID=Australia/Sydney;VALUE=DATE:20241111
DTSTAMP:20241031T102738Z
URL:https://unswoc.org/wordpress/events/cathedral-sutherland-beginner-spor
 t-climbing-10-11-24/
SUMMARY:[FULL] Cathedral (Sutherland) Beginner Sport Climbing 10/11/24
DESCRIPTION:\n\n\nHi Keen people!\n\nPLEASE READ THE WHOLE DOCUMENT....\n\n
 \nNext SUNDAY\, 10th of November\, Myself\, (Gabriel)\, Amelia V\, and Sop
 hia Ingham\, Nathan W (TLIT) will be running a biginner sport climbing tri
 p to The Cathedral Crag\, in Sutherland Shire. This trip is ment for begin
 ners\, so those who havnt climbed outdoors\, or are wanting some more top 
 rope / lead (depending) experience.\n\n&nbsp\;\n\nSignups open the 31st of
  October\, 12pm (Noon). We can take a maximum of 10 participants\, and it'
 s first in\, first served.\n\n&nbsp\;\n\n\nIn the comments\, please indica
 te any gear you will need\, or have a car\, as well as your favourite frui
 t\, and why it is better than the rest.\n\n\n&nbsp\;\n\n\nWe will work out
  carpooling/transporting in the group chat that you will be added to when 
 approved. Keep ur fb messeger requests open.\n\n&nbsp\;\n\nTrip Key Detail
 s:\nDate: Sunday 10th of November 2024\nMeeting Location:\n\n\n4 Shackel R
 d\, Bangor NSW 2234\n\n\nMeeting Time: 9:30am\nDeparture time\, Approx. 4:
 30pm\n&nbsp\;\n\nGear Required\,\n\n 	Water - At least 2L CRITICAL\n 	Food
 : lunch\, snacks. CRITICAL\n 	Helmet*\n 	Harness*\n 	Belay device and a ca
 rabiner*\n 	Climbing shoes* (optional but highly recommended)\n 	Sunscreen
  + Sun Appropriate Clothing (HAT)\n\n&nbsp\;\n\nItems with an asterisk (*)
  can be borrowed from the gear cupboard.\n\n\nOnce you have been approved 
 for the trip\, we can sort out any gear you may need.\n\n&nbsp\;\n\n\nGet 
 Keen\, hope to see you all there!\n\nHIDDEN QUESTION - whats ur oppinoin /
  hot take on chicken crimpies?\n\nif you dont answer the hidden question\,
  we cant accept you on the trip :)\n\nGabriel\, Amelia\, Sophia\, Nathan.\
 n\n
CATEGORIES:Outdoor Climbing
LOCATION:https://www.google.com/maps/place/4+Shackel+Rd,+Bangor+NSW+2234/@-
 34.0217709,151.0269045,687m/data=!3m2!1e3!4b1!4m6!3m5!1s0x6b12c0bb8ab89d23
 :0x485d10663a0eb282!8m2!3d-34.0217709!4d151.0294794!16s%2Fg%2F11c26_rk9y?e
 ntry=ttu&g_ep=EgoyMDI0MTAyNy4wIKXMDSoASAFQAw%3D%3D
END:VEVENT
BEGIN:VTIMEZONE
TZID:Australia/Sydney
X-LIC-LOCATION:Australia/Sydney
BEGIN:DAYLIGHT
DTSTART:20241006T030000
TZOFFSETFROM:+1000
TZOFFSETTO:+1100
TZNAME:AEDT
END:DAYLIGHT
END:VTIMEZONE
END:VCALENDAR