BEGIN:VCALENDAR
VERSION:2.0
PRODID:-//wp-events-plugin.com//7.2.3.1//EN
TZID:Australia/Sydney
X-WR-TIMEZONE:Australia/Sydney
BEGIN:VEVENT
UID:2161@unswoc.org
DTSTART;VALUE=DATE:20170812
DTEND;VALUE=DATE:20170814
DTSTAMP:20170809T003745Z
URL:https://unswoc.org/wordpress/events/castle-running-group/
SUMMARY:The Castle\, Running group
DESCRIPTION:Tagging along on Mac and Liam's overnight hiking trip to the Ca
 stle\, the plan is to do some harder hiking and trail running in the area
 \, camping at the same spot\, for those who are experienced and self suffi
 cient\, aiming for one car load of people.\n\nSaturday/Friday\n\n	drive to
  Yadbora flats\, either Friday night or Saturday morning depending on driv
 er availability. If no-one has a car we can split a go-get or something.\n
 \nSaturday:\n\n	hike up with packs to Cooyoyo creek\, setup camp etc\n	Dep
 ending on the vegetation and time\, visit some combination of monolith val
 ley\, Mt Owen\, Mt Cole\, Shrouded Gods Mountain. Would be nice to get som
 e running in\, maybe even do some bouldering in monolith valley.\n\nSunday
 :\n\n	pack up camp\n	Summit the Castle\n	Head back to the car\, Take a dip
  in the river\n	drive back to Sydney\n\nWhat to bring:\n\n	food\, water\, 
 sleeping gear\, shelter\n	shoes\, preferably some trail runners\n
CATEGORIES:Bushwalking,Trail Running
END:VEVENT
END:VCALENDAR