BEGIN:VCALENDAR
VERSION:2.0
PRODID:-//wp-events-plugin.com//7.2.3.1//EN
TZID:Australia/Sydney
X-WR-TIMEZONE:Australia/Sydney
BEGIN:VEVENT
UID:324@unswoc.org
DTSTART:20131209T040000Z
DTEND:20131211T120000Z
DTSTAMP:20131206T190925Z
URL:https://unswoc.org/wordpress/events/carra-beanga-creek-canyon-2/
SUMMARY:Carra Beanga Creek Canyon
DESCRIPTION:Planning to head to Kanangra NP Monday night to do the epic 2-d
 ay Carra Beanga Creek Canyon Tuesday / Wednesday.
CATEGORIES:Canyoning
END:VEVENT
END:VCALENDAR