BEGIN:VCALENDAR
VERSION:2.0
PRODID:-//wp-events-plugin.com//7.2.3.1//EN
TZID:Australia/Sydney
X-WR-TIMEZONE:Australia/Sydney
BEGIN:VEVENT
UID:2011@unswoc.org
DTSTART:20160429T223000Z
DTEND:20160430T010000Z
DTSTAMP:20160429T124959Z
URL:https://unswoc.org/wordpress/events/cape-banks-intro-to-trail-running/
SUMMARY:Cape Banks - Intro to Trail Running
DESCRIPTION:\n\nLove feeling the wind in your hair\, and the sand in your s
 hoes?\n\nCome for an easy introductory trail run this Saturday morning wit
 h me down at cape banks!\n\nIt's about the closest "trails" you are going 
 to get to the city (one of my favourite local routes) so it's only going t
 o take up the morning. If you've always wanted to try some trail running t
 his is a great place to start. Or if you already love running come along t
 o run with some people who share your passion and enjoy the beautiful Bota
 ny Bay national park.\n\nMeet at 9:30am at the gear cupboard on campus and
  we will catch the bus together from there (or drive if enough people with
  cars sign up).\n\n&nbsp\;\n\nThings to bring:\n\nRunning clothes and runn
 ing shoes.\n\nA water bottle (You won't need to run with it\, just leave i
 t at the end of the trail. I will bring water and cups in my running pack 
 if you get thirsty).\n\nA muesli bar or something small for a snack.\n\nAn
  Opal card!\n\nOptional: Swimmers if you want to take a dip at the beach w
 hen you finish :)\n\n&nbsp\;\n\nAny questions send me a message on faceboo
 k or contact me at:\n\nandrew.barnett.au@gmail.com\n\n0439735393\n\n&nbsp\
 ;\n\nFor those meeting us there\, we will get off at the terminus bus stop
  at La Perouse (the one that is most south). Message me to tell me if you 
 are meeting us down at La Perouse rather than the gear cupboard.\n\n&nbsp\
 ;
CATEGORIES:Training
END:VEVENT
END:VCALENDAR