BEGIN:VCALENDAR
VERSION:2.0
PRODID:-//wp-events-plugin.com//7.2.3.1//EN
TZID:Australia/Sydney
X-WR-TIMEZONE:Australia/Sydney
BEGIN:VEVENT
UID:3503@unswoc.org
DTSTART;TZID=Australia/Sydney;VALUE=DATE:20241020
DTEND;TZID=Australia/Sydney;VALUE=DATE:20241021
DTSTAMP:20241014T110722Z
URL:https://unswoc.org/wordpress/events/cape-banks-beginner-bouldering-20-
 10-24/
SUMMARY:FULL Cape Banks Beginner Bouldering 20/10/24
DESCRIPTION:Hi everyone!\n\nNick Tang and I (Gabriel) will be running a big
 inner bouldering trip at Cape banks on Sunday the 20th of October.\n\nThis
  trip aims to upskill people to how to boulder OUTDOORS safely\, using cor
 rect spotting techniques\, and pad laying skills to keep everyone safe!\n\
 n&nbsp\;\n\nWhat you need:\n\n 	Climbing shoes (optional but highly recome
 nded)\n 	2L of water\n 	Appropriate clothing for the weather + walking sho
 es\n 	Some snacks / lunch\n 	Climbing chalk (optional but recommended)\n\n
 &nbsp\;\n\nClimbing shoes can be borrowed from the gear cupboard. Stay pos
 ted on the FB for the exec date and time of that\, or contact a gear offic
 er.\n\n&nbsp\;\n\nBouldering pads will be provided\, but if you have your 
 own we encorage you to bring them\, the more the merrier!\n\nThe crag can 
 be located via this link\, have a look at any climbs you would want to try
 ...\n\nhttps://www.thecrag.com/en/climbing/australia/eastern-suburbs/area/
 1051472037\n\n&nbsp\;\n\nIn the description below\, let us know what 3 thi
 ngs\;\n\n 	your favourate flavour of water (be creative)\n 	your climbing 
 experience\n 	and if you have a car + how many spots.\n\n&nbsp\;\n\nHope t
 o see as many as we can there! Stay keen!\n\n- Gabriel and Nick\n\n&nbsp\;
 \n\n&nbsp\;\n\n&nbsp\;\n\n&nbsp\;
CATEGORIES:Bouldering
LOCATION:https://www.google.com/maps/place/Cape+Banks+Bridge/@-33.9928963,1
 51.244935,1495m/data=!3m1!1e3!4m9!1m2!2m1!1scape+banks!3m5!1s0x6b12b5a25e0
 21e9b:0xb031e92fe68873b7!8m2!3d-33.998384!4d151.2487552!16s%2Fg%2F11t72gtr
 d6?entry=ttu&g_ep=EgoyMDI0MTAwOS4wIKXMDSoASAFQAw%3D%3D
END:VEVENT
BEGIN:VTIMEZONE
TZID:Australia/Sydney
X-LIC-LOCATION:Australia/Sydney
BEGIN:DAYLIGHT
DTSTART:20241006T030000
TZOFFSETFROM:+1000
TZOFFSETTO:+1100
TZNAME:AEDT
END:DAYLIGHT
END:VTIMEZONE
END:VCALENDAR