BEGIN:VCALENDAR
VERSION:2.0
PRODID:-//wp-events-plugin.com//7.2.3.1//EN
TZID:Australia/Sydney
X-WR-TIMEZONE:Australia/Sydney
BEGIN:VEVENT
UID:754@unswoc.org
DTSTART:20150314T210000Z
DTEND:20150315T060000Z
DTSTAMP:20150313T003720Z
URL:https://unswoc.org/wordpress/events/canyoning/
SUMMARY:Canyoning
DESCRIPTION:Hi\,\n\nWe are planning to run an intermediate/advanced canyon 
 on the Sunday out of Boree log. Undecided what we'll be doing yet but you 
 will need to have all of your own gear and have done abseiling in a canyon
  before.\n\nCheers\n\nAlex
CATEGORIES:Canyoning
LOCATION:\, \, 
X-APPLE-STRUCTURED-LOCATION;VALUE=URI;X-ADDRESS=\, ;X-APPLE-RADIUS=100;X-TI
 TLE=:geo:0,0
END:VEVENT
END:VCALENDAR