BEGIN:VCALENDAR
VERSION:2.0
PRODID:-//wp-events-plugin.com//7.2.3.1//EN
TZID:Australia/Sydney
X-WR-TIMEZONE:Australia/Sydney
BEGIN:VEVENT
UID:1936@unswoc.org
DTSTART:20160304T200000Z
DTEND:20160305T070000Z
DTSTAMP:20160223T105826Z
URL:https://unswoc.org/wordpress/events/canyoning-twisterrocky-creek/
SUMMARY:Canyoning - Twister/Rocky Creek
DESCRIPTION:[s2If current_user_is(s2member_level0)][/s2If]\n\nIs the summer
  heat getting you down? Do you like jumping into water? Do you want a bit 
 more adventure in your buswalking?\n\nIf you answered yes to any or all of
  the above then you should come along on the first canyoning trip of the
  year.\n\nBeginners welcome!!\n\nThere will be space for a maximum of 10 b
 eginners. However\, we will need two more cars to be able to transport all
  the people. Due to this I will only open spots as I get available spots i
 n cars.\n\nFor more information on canyoning please look at the following
  page: http://unswoc.org/wordpress/sports/canyoning/\n\nIf you still have
  questions after reading the page feel free to message me on facebook (Kyl
 ie Upton).\n\nAlso make sure to check you have actually been accepted onto
  the trip\, you should get a confirmation email!!
CATEGORIES:Canyoning
END:VEVENT
END:VCALENDAR